BEGIN:VCALENDAR
VERSION:2.0
PRODID:-//Quiltworx.com - ECPv6.3.4//NONSGML v1.0//EN
CALSCALE:GREGORIAN
METHOD:PUBLISH
X-WR-CALNAME:Quiltworx.com
X-ORIGINAL-URL:https://new.quiltworx.com
X-WR-CALDESC:Events for Quiltworx.com
REFRESH-INTERVAL;VALUE=DURATION:PT1H
X-Robots-Tag:noindex
X-PUBLISHED-TTL:PT1H
BEGIN:VTIMEZONE
TZID:America/Denver
BEGIN:DAYLIGHT
TZOFFSETFROM:-0700
TZOFFSETTO:-0600
TZNAME:MDT
DTSTART:20220313T090000
END:DAYLIGHT
BEGIN:STANDARD
TZOFFSETFROM:-0600
TZOFFSETTO:-0700
TZNAME:MST
DTSTART:20221106T080000
END:STANDARD
END:VTIMEZONE
BEGIN:VEVENT
DTSTART;TZID=America/Denver:20220605T090000
DTEND;TZID=America/Denver:20221127T140000
DTSTAMP:20260419T152851
CREATED:20220105T174950Z
LAST-MODIFIED:20220105T174950Z
UID:10010336-1654419600-1669557600@new.quiltworx.com
SUMMARY:Quiltworx Technique Quilt
DESCRIPTION:Did you miss the class? This is your chance to do one of the Quiltworx technique quilts. Paradise in Bloom (3 only)\, Vintage Rose\, Dinner Plate Dahlia\, or Corel Reef are your choices.
URL:https://new.quiltworx.com/event/quiltworx-technique-quilt/2022-06-05/
LOCATION:Sharon’s Attic Quilt Shop\, 2950 SE Cornelius Pass Rd\, Hillsboro\, OR\, 97123\, United States
CATEGORIES:Carol Hattan,Coral Reef,Dinner Plate Dahlia,Vintage Rose
ORGANIZER;CN="Sharon Rice":MAILTO:quilter5427@hotmail.com
GEO:45.4985096;-122.9015758
X-APPLE-STRUCTURED-LOCATION;VALUE=URI;X-ADDRESS=Sharon’s Attic Quilt Shop 2950 SE Cornelius Pass Rd Hillsboro OR 97123 United States;X-APPLE-RADIUS=500;X-TITLE=2950 SE Cornelius Pass Rd:geo:-122.9015758,45.4985096
END:VEVENT
BEGIN:VEVENT
DTSTART;TZID=America/Denver:20220703T090000
DTEND;TZID=America/Denver:20221225T140000
DTSTAMP:20260419T152851
CREATED:20220105T174950Z
LAST-MODIFIED:20220105T174950Z
UID:10010337-1656838800-1671976800@new.quiltworx.com
SUMMARY:Quiltworx Technique Quilt
DESCRIPTION:Did you miss the class? This is your chance to do one of the Quiltworx technique quilts. Paradise in Bloom (3 only)\, Vintage Rose\, Dinner Plate Dahlia\, or Corel Reef are your choices.
URL:https://new.quiltworx.com/event/quiltworx-technique-quilt/2022-07-03/
LOCATION:Sharon’s Attic Quilt Shop\, 2950 SE Cornelius Pass Rd\, Hillsboro\, OR\, 97123\, United States
CATEGORIES:Carol Hattan,Coral Reef,Dinner Plate Dahlia,Vintage Rose
ORGANIZER;CN="Sharon Rice":MAILTO:quilter5427@hotmail.com
GEO:45.4985096;-122.9015758
X-APPLE-STRUCTURED-LOCATION;VALUE=URI;X-ADDRESS=Sharon’s Attic Quilt Shop 2950 SE Cornelius Pass Rd Hillsboro OR 97123 United States;X-APPLE-RADIUS=500;X-TITLE=2950 SE Cornelius Pass Rd:geo:-122.9015758,45.4985096
END:VEVENT
BEGIN:VEVENT
DTSTART;TZID=America/Denver:20220709T103000
DTEND;TZID=America/Denver:20221203T143000
DTSTAMP:20260419T152851
CREATED:20220105T172511Z
LAST-MODIFIED:20220105T174045Z
UID:10010324-1657362600-1670077800@new.quiltworx.com
SUMMARY:Vintage Rose or Dinner Plate Dalhia
DESCRIPTION:Beginning in February join us for the construction of your choice of Dinner Plate Dahlia or Vintage Rose. Plan to meet with Carol ahead of time if you need help in selecting fabrics or designing your quilt with Quilster.
URL:https://new.quiltworx.com/event/vintage-rose-or-dinner-plate-dalhia/2022-07-09/
LOCATION:Cedar Ridge\, 19045 S Beavercreek Rd.\, Oregon City\, OR\, 97045\, United States
CATEGORIES:Carol Hattan,Coral Reef,Dinner Plate Dahlia,Vintage Rose
GEO:45.3292522;-122.5719057
X-APPLE-STRUCTURED-LOCATION;VALUE=URI;X-ADDRESS=Cedar Ridge 19045 S Beavercreek Rd. Oregon City OR 97045 United States;X-APPLE-RADIUS=500;X-TITLE=19045 S Beavercreek Rd.:geo:-122.5719057,45.3292522
END:VEVENT
BEGIN:VEVENT
DTSTART;TZID=America/Denver:20220716T100000
DTEND;TZID=America/Denver:20221210T140000
DTSTAMP:20260419T152851
CREATED:20220105T173711Z
LAST-MODIFIED:20220105T173711Z
UID:10010330-1657965600-1670680800@new.quiltworx.com
SUMMARY:Coral Reef or Dinner Plate Dalhia
DESCRIPTION:For the first time I will be offering a technique class in Vancouver. Join me at the new Just For Fun Quilting shop and make a beautiful quilt while learning the Quiltworx technique for foundation piecing. If possible meet with me ahead of time for pattern purchases\, help in color planning of your quilt from pattern or with the help of Quiltster.
URL:https://new.quiltworx.com/event/coral-reef-or-dinner-plate-dalhia/2022-07-16/
LOCATION:Just for Fun Quilting\, 2503 NE 78th #12\, Vancouver\, WA\, 98661\, United States
CATEGORIES:Carol Hattan,Coral Reef,Dinner Plate Dahlia
GEO:45.6781603;-122.6460756
X-APPLE-STRUCTURED-LOCATION;VALUE=URI;X-ADDRESS=Just for Fun Quilting 2503 NE 78th #12 Vancouver WA 98661 United States;X-APPLE-RADIUS=500;X-TITLE=2503 NE 78th #12:geo:-122.6460756,45.6781603
END:VEVENT
BEGIN:VEVENT
DTSTART;TZID=America/Denver:20221113T190000
DTEND;TZID=America/Denver:20221117T150000
DTSTAMP:20260419T152851
CREATED:20190624T175503Z
LAST-MODIFIED:20200325T131434Z
UID:10007708-1668366000-1668697200@new.quiltworx.com
SUMMARY:Quiltworx Retreat at Creative Passions Retreat Center
DESCRIPTION:Choose your Quiltworx pattern the Desert Sky or Ripples (from the Geese Migration Book).  Both patterns are great for anyone new to Judy Niemeyer’s foundation paper piecing techniques. \nAre you familiar with Quiltworx patterns and have one in progress? You are welcome to bring that to the retreat and work on finishing. \nQuiltworx Certified Instructor Nancy Kloster is ready to help \nFor more information\, please click here.
URL:https://new.quiltworx.com/event/quiltworx-retreat-at-creative-passions-retreat-center-2/2022-11-13/
LOCATION:AB
CATEGORIES:Desert Sky,Nancy Kloster
ORGANIZER;CN="Creative Passions Crop and Quilt Retreat Center":MAILTO:lgreenfelder@hotmail.com
END:VEVENT
BEGIN:VEVENT
DTSTART;TZID=America/Denver:20221113T190000
DTEND;TZID=America/Denver:20221117T150000
DTSTAMP:20260419T152851
CREATED:20210204T052701Z
LAST-MODIFIED:20220713T160936Z
UID:10006785-1668366000-1668697200@new.quiltworx.com
SUMMARY:"Anything Judy" & "Coral Reef" - 4-day Retreat at Chesaning - All Inclusive w/Sew Many Things CS
DESCRIPTION:Anything Judy Teaching Retreat – 4-day Retreat at the Chesaning Retreat Center in Chesaning MI with Certified Shop Instructors Patti Mitrowski\, Nancy Dufoor\, & Kathi Sweet \nHave a Judy Niemeyer pattern or any Technique of the Month Block you want to start or complete\, bring it and we will help you with it. \nThe Coral Reef TOM is a Brand new Technique of the Month. The quilt is beautifully designed and sews together very nicely. \nCheck out some of the samples of the new Coral Reef Technique of the Month Pictures. \nWe are also happy to help color the quilt and even cut the quilt pieces for you for an additional fee. Call the store for details. \nInterested\, click here to register. \nSew Many Things is a Judy Niemeyer Certified Shop: www.sewmanythingssc.com \n 
URL:https://new.quiltworx.com/event/anything-judy-coral-reef-4-day-retreat-for-new-technique-of-the-month-all-inclusive-with-sew-many-things-3/
LOCATION:AB
CATEGORIES:Coral Reef,Sew Many Things
ORGANIZER;CN="Sew Many Things Sewing Center":MAILTO:sewmanythingsle@yahoo.com
END:VEVENT
BEGIN:VEVENT
DTSTART;TZID=America/Denver:20221114T190000
DTEND;TZID=America/Denver:20221118T150000
DTSTAMP:20260419T152851
CREATED:20190624T175503Z
LAST-MODIFIED:20200325T131434Z
UID:10007709-1668452400-1668783600@new.quiltworx.com
SUMMARY:Quiltworx Retreat at Creative Passions Retreat Center
DESCRIPTION:Choose your Quiltworx pattern the Desert Sky or Ripples (from the Geese Migration Book).  Both patterns are great for anyone new to Judy Niemeyer’s foundation paper piecing techniques. \nAre you familiar with Quiltworx patterns and have one in progress? You are welcome to bring that to the retreat and work on finishing. \nQuiltworx Certified Instructor Nancy Kloster is ready to help \nFor more information\, please click here.
URL:https://new.quiltworx.com/event/quiltworx-retreat-at-creative-passions-retreat-center-2/2022-11-14/
LOCATION:AB
CATEGORIES:Desert Sky,Nancy Kloster
ORGANIZER;CN="Creative Passions Crop and Quilt Retreat Center":MAILTO:lgreenfelder@hotmail.com
END:VEVENT
BEGIN:VEVENT
DTSTART;TZID=America/Denver:20221115T190000
DTEND;TZID=America/Denver:20221119T150000
DTSTAMP:20260419T152851
CREATED:20190624T175503Z
LAST-MODIFIED:20200325T131434Z
UID:10007710-1668538800-1668870000@new.quiltworx.com
SUMMARY:Quiltworx Retreat at Creative Passions Retreat Center
DESCRIPTION:Choose your Quiltworx pattern the Desert Sky or Ripples (from the Geese Migration Book).  Both patterns are great for anyone new to Judy Niemeyer’s foundation paper piecing techniques. \nAre you familiar with Quiltworx patterns and have one in progress? You are welcome to bring that to the retreat and work on finishing. \nQuiltworx Certified Instructor Nancy Kloster is ready to help \nFor more information\, please click here.
URL:https://new.quiltworx.com/event/quiltworx-retreat-at-creative-passions-retreat-center-2/2022-11-15/
LOCATION:AB
CATEGORIES:Desert Sky,Nancy Kloster
ORGANIZER;CN="Creative Passions Crop and Quilt Retreat Center":MAILTO:lgreenfelder@hotmail.com
END:VEVENT
BEGIN:VEVENT
DTSTART;TZID=America/Denver:20221116T190000
DTEND;TZID=America/Denver:20221120T150000
DTSTAMP:20260419T152851
CREATED:20190624T175503Z
LAST-MODIFIED:20200325T131434Z
UID:10007711-1668625200-1668956400@new.quiltworx.com
SUMMARY:Quiltworx Retreat at Creative Passions Retreat Center
DESCRIPTION:Choose your Quiltworx pattern the Desert Sky or Ripples (from the Geese Migration Book).  Both patterns are great for anyone new to Judy Niemeyer’s foundation paper piecing techniques. \nAre you familiar with Quiltworx patterns and have one in progress? You are welcome to bring that to the retreat and work on finishing. \nQuiltworx Certified Instructor Nancy Kloster is ready to help \nFor more information\, please click here.
URL:https://new.quiltworx.com/event/quiltworx-retreat-at-creative-passions-retreat-center-2/2022-11-16/
LOCATION:AB
CATEGORIES:Desert Sky,Nancy Kloster
ORGANIZER;CN="Creative Passions Crop and Quilt Retreat Center":MAILTO:lgreenfelder@hotmail.com
END:VEVENT
BEGIN:VEVENT
DTSTART;TZID=America/Denver:20221117T100000
DTEND;TZID=America/Denver:20221117T153000
DTSTAMP:20260419T152851
CREATED:20190821T020906Z
LAST-MODIFIED:20191217T222045Z
UID:10008905-1668679200-1668699000@new.quiltworx.com
SUMMARY:Watermelon Placemats Workshop 1 of 2
DESCRIPTION:Awesome Watermelon Placemats! Refreshing to look at and loaded with many of Judy’s techniques. This small project will give you the opportunity to learn Floating Points\, Curved Piecing\, Bias Strips and Applique. \nTwo Workshops – Friday\,  February 21\, 2020 AND Saturday\, February 22\, 2020 \nTo visit the Ann Arbor Sewing Center Website\, please click here.
URL:https://new.quiltworx.com/event/watermelon-placemats-workshop-1-of-2/2022-11-17/
LOCATION:Ann Arbor Sewing Center\, 5235 Jackson Road\, Ann Arbor\, MI\, 48103\, United States
CATEGORIES:Nancy Kloster
ATTACH;FMTTYPE=image/jpeg:https://d90udyyio1r4.cloudfront.net/wp-content/uploads/2013/09/Watermelon-PM-Mandarin-Grove-CS.jpg
ORGANIZER;CN="Ann Arbor Sewing Center":MAILTO:Annarborsewingcenter@annarborsewing.com
GEO:42.2875554;-83.8333923
X-APPLE-STRUCTURED-LOCATION;VALUE=URI;X-ADDRESS=Ann Arbor Sewing Center 5235 Jackson Road Ann Arbor MI 48103 United States;X-APPLE-RADIUS=500;X-TITLE=5235 Jackson Road:geo:-83.8333923,42.2875554
END:VEVENT
BEGIN:VEVENT
DTSTART;TZID=America/Denver:20221117T100000
DTEND;TZID=America/Denver:20221117T153000
DTSTAMP:20260419T152851
CREATED:20190821T021417Z
LAST-MODIFIED:20191217T221915Z
UID:10010044-1668679200-1668699000@new.quiltworx.com
SUMMARY:Watermelon Placemats Workshop 2 of 2
DESCRIPTION:Awesome Watermelon Placemats! Refreshing to look at and loaded with many of Judy’s techniques. This small project will give you the opportunity to learn Floating Points\, Curved Piecing\, Bias Strips and Applique. \nTwo Workshops – Friday\, February 21\, 2020 AND Saturday\, February 22\, 2020 \nTo visit the Ann Arbor Sewing Center website\, please click here.
URL:https://new.quiltworx.com/event/watermelon-placemats-workshop-2-of-2/2022-11-17/
LOCATION:Ann Arbor Sewing Center\, 5235 Jackson Road\, Ann Arbor\, MI\, 48103\, United States
CATEGORIES:Nancy Kloster
ATTACH;FMTTYPE=image/jpeg:https://d90udyyio1r4.cloudfront.net/wp-content/uploads/2019/03/Watermelon-Placemats-MG-1Pg-KS-3-21-19.jpg
ORGANIZER;CN="Ann Arbor Sewing Center":MAILTO:Annarborsewingcenter@annarborsewing.com
GEO:42.2875554;-83.8333923
X-APPLE-STRUCTURED-LOCATION;VALUE=URI;X-ADDRESS=Ann Arbor Sewing Center 5235 Jackson Road Ann Arbor MI 48103 United States;X-APPLE-RADIUS=500;X-TITLE=5235 Jackson Road:geo:-83.8333923,42.2875554
END:VEVENT
BEGIN:VEVENT
DTSTART;TZID=America/Denver:20221117T190000
DTEND;TZID=America/Denver:20221121T150000
DTSTAMP:20260419T152851
CREATED:20190624T175503Z
LAST-MODIFIED:20200325T131434Z
UID:10007712-1668711600-1669042800@new.quiltworx.com
SUMMARY:Quiltworx Retreat at Creative Passions Retreat Center
DESCRIPTION:Choose your Quiltworx pattern the Desert Sky or Ripples (from the Geese Migration Book).  Both patterns are great for anyone new to Judy Niemeyer’s foundation paper piecing techniques. \nAre you familiar with Quiltworx patterns and have one in progress? You are welcome to bring that to the retreat and work on finishing. \nQuiltworx Certified Instructor Nancy Kloster is ready to help \nFor more information\, please click here.
URL:https://new.quiltworx.com/event/quiltworx-retreat-at-creative-passions-retreat-center-2/2022-11-17/
LOCATION:AB
CATEGORIES:Desert Sky,Nancy Kloster
ORGANIZER;CN="Creative Passions Crop and Quilt Retreat Center":MAILTO:lgreenfelder@hotmail.com
END:VEVENT
END:VCALENDAR