BEGIN:VCALENDAR
VERSION:2.0
PRODID:-//Quiltworx.com - ECPv6.3.4//NONSGML v1.0//EN
CALSCALE:GREGORIAN
METHOD:PUBLISH
X-ORIGINAL-URL:https://new.quiltworx.com
X-WR-CALDESC:Events for Quiltworx.com
REFRESH-INTERVAL;VALUE=DURATION:PT1H
X-Robots-Tag:noindex
X-PUBLISHED-TTL:PT1H
BEGIN:VTIMEZONE
TZID:America/Denver
BEGIN:DAYLIGHT
TZOFFSETFROM:-0700
TZOFFSETTO:-0600
TZNAME:MDT
DTSTART:20220313T090000
END:DAYLIGHT
BEGIN:STANDARD
TZOFFSETFROM:-0600
TZOFFSETTO:-0700
TZNAME:MST
DTSTART:20221106T080000
END:STANDARD
TZID:America/Anchorage
BEGIN:DAYLIGHT
TZOFFSETFROM:-0900
TZOFFSETTO:-0800
TZNAME:AKDT
DTSTART:20220313T110000
END:DAYLIGHT
BEGIN:STANDARD
TZOFFSETFROM:-0800
TZOFFSETTO:-0900
TZNAME:AKST
DTSTART:20221106T100000
END:STANDARD
END:VTIMEZONE
BEGIN:VEVENT
DTSTART;TZID=America/Denver:20220605T090000
DTEND;TZID=America/Denver:20221127T140000
DTSTAMP:20260419T233847
CREATED:20220105T174950Z
LAST-MODIFIED:20220105T174950Z
UID:10010336-1654419600-1669557600@new.quiltworx.com
SUMMARY:Quiltworx Technique Quilt
DESCRIPTION:Did you miss the class? This is your chance to do one of the Quiltworx technique quilts. Paradise in Bloom (3 only)\, Vintage Rose\, Dinner Plate Dahlia\, or Corel Reef are your choices.
URL:https://new.quiltworx.com/event/quiltworx-technique-quilt/2022-06-05/
LOCATION:Sharon’s Attic Quilt Shop\, 2950 SE Cornelius Pass Rd\, Hillsboro\, OR\, 97123\, United States
CATEGORIES:Carol Hattan,Coral Reef,Dinner Plate Dahlia,Vintage Rose
ORGANIZER;CN="Sharon Rice":MAILTO:quilter5427@hotmail.com
GEO:45.4985096;-122.9015758
X-APPLE-STRUCTURED-LOCATION;VALUE=URI;X-ADDRESS=Sharon’s Attic Quilt Shop 2950 SE Cornelius Pass Rd Hillsboro OR 97123 United States;X-APPLE-RADIUS=500;X-TITLE=2950 SE Cornelius Pass Rd:geo:-122.9015758,45.4985096
END:VEVENT
BEGIN:VEVENT
DTSTART;TZID=America/Denver:20220618T100000
DTEND;TZID=America/Denver:20221112T140000
DTSTAMP:20260419T233847
CREATED:20220105T173711Z
LAST-MODIFIED:20220105T173711Z
UID:10010329-1655546400-1668261600@new.quiltworx.com
SUMMARY:Coral Reef or Dinner Plate Dalhia
DESCRIPTION:For the first time I will be offering a technique class in Vancouver. Join me at the new Just For Fun Quilting shop and make a beautiful quilt while learning the Quiltworx technique for foundation piecing. If possible meet with me ahead of time for pattern purchases\, help in color planning of your quilt from pattern or with the help of Quiltster.
URL:https://new.quiltworx.com/event/coral-reef-or-dinner-plate-dalhia/2022-06-18/
LOCATION:Just for Fun Quilting\, 2503 NE 78th #12\, Vancouver\, WA\, 98661\, United States
CATEGORIES:Carol Hattan,Coral Reef,Dinner Plate Dahlia
GEO:45.6781603;-122.6460756
X-APPLE-STRUCTURED-LOCATION;VALUE=URI;X-ADDRESS=Just for Fun Quilting 2503 NE 78th #12 Vancouver WA 98661 United States;X-APPLE-RADIUS=500;X-TITLE=2503 NE 78th #12:geo:-122.6460756,45.6781603
END:VEVENT
BEGIN:VEVENT
DTSTART;TZID=America/Denver:20220703T090000
DTEND;TZID=America/Denver:20221225T140000
DTSTAMP:20260419T233847
CREATED:20220105T174950Z
LAST-MODIFIED:20220105T174950Z
UID:10010337-1656838800-1671976800@new.quiltworx.com
SUMMARY:Quiltworx Technique Quilt
DESCRIPTION:Did you miss the class? This is your chance to do one of the Quiltworx technique quilts. Paradise in Bloom (3 only)\, Vintage Rose\, Dinner Plate Dahlia\, or Corel Reef are your choices.
URL:https://new.quiltworx.com/event/quiltworx-technique-quilt/2022-07-03/
LOCATION:Sharon’s Attic Quilt Shop\, 2950 SE Cornelius Pass Rd\, Hillsboro\, OR\, 97123\, United States
CATEGORIES:Carol Hattan,Coral Reef,Dinner Plate Dahlia,Vintage Rose
ORGANIZER;CN="Sharon Rice":MAILTO:quilter5427@hotmail.com
GEO:45.4985096;-122.9015758
X-APPLE-STRUCTURED-LOCATION;VALUE=URI;X-ADDRESS=Sharon’s Attic Quilt Shop 2950 SE Cornelius Pass Rd Hillsboro OR 97123 United States;X-APPLE-RADIUS=500;X-TITLE=2950 SE Cornelius Pass Rd:geo:-122.9015758,45.4985096
END:VEVENT
BEGIN:VEVENT
DTSTART;TZID=America/Denver:20220709T103000
DTEND;TZID=America/Denver:20221203T143000
DTSTAMP:20260419T233847
CREATED:20220105T172511Z
LAST-MODIFIED:20220105T174045Z
UID:10010324-1657362600-1670077800@new.quiltworx.com
SUMMARY:Vintage Rose or Dinner Plate Dalhia
DESCRIPTION:Beginning in February join us for the construction of your choice of Dinner Plate Dahlia or Vintage Rose. Plan to meet with Carol ahead of time if you need help in selecting fabrics or designing your quilt with Quilster.
URL:https://new.quiltworx.com/event/vintage-rose-or-dinner-plate-dalhia/2022-07-09/
LOCATION:Cedar Ridge\, 19045 S Beavercreek Rd.\, Oregon City\, OR\, 97045\, United States
CATEGORIES:Carol Hattan,Coral Reef,Dinner Plate Dahlia,Vintage Rose
GEO:45.3292522;-122.5719057
X-APPLE-STRUCTURED-LOCATION;VALUE=URI;X-ADDRESS=Cedar Ridge 19045 S Beavercreek Rd. Oregon City OR 97045 United States;X-APPLE-RADIUS=500;X-TITLE=19045 S Beavercreek Rd.:geo:-122.5719057,45.3292522
END:VEVENT
BEGIN:VEVENT
DTSTART;TZID=America/Denver:20220716T100000
DTEND;TZID=America/Denver:20221210T140000
DTSTAMP:20260419T233847
CREATED:20220105T173711Z
LAST-MODIFIED:20220105T173711Z
UID:10010330-1657965600-1670680800@new.quiltworx.com
SUMMARY:Coral Reef or Dinner Plate Dalhia
DESCRIPTION:For the first time I will be offering a technique class in Vancouver. Join me at the new Just For Fun Quilting shop and make a beautiful quilt while learning the Quiltworx technique for foundation piecing. If possible meet with me ahead of time for pattern purchases\, help in color planning of your quilt from pattern or with the help of Quiltster.
URL:https://new.quiltworx.com/event/coral-reef-or-dinner-plate-dalhia/2022-07-16/
LOCATION:Just for Fun Quilting\, 2503 NE 78th #12\, Vancouver\, WA\, 98661\, United States
CATEGORIES:Carol Hattan,Coral Reef,Dinner Plate Dahlia
GEO:45.6781603;-122.6460756
X-APPLE-STRUCTURED-LOCATION;VALUE=URI;X-ADDRESS=Just for Fun Quilting 2503 NE 78th #12 Vancouver WA 98661 United States;X-APPLE-RADIUS=500;X-TITLE=2503 NE 78th #12:geo:-122.6460756,45.6781603
END:VEVENT
BEGIN:VEVENT
DTSTART;TZID=America/Denver:20221108T190000
DTEND;TZID=America/Denver:20221112T150000
DTSTAMP:20260419T233847
CREATED:20190624T175503Z
LAST-MODIFIED:20200325T131434Z
UID:10007703-1667934000-1668265200@new.quiltworx.com
SUMMARY:Quiltworx Retreat at Creative Passions Retreat Center
DESCRIPTION:Choose your Quiltworx pattern the Desert Sky or Ripples (from the Geese Migration Book).  Both patterns are great for anyone new to Judy Niemeyer’s foundation paper piecing techniques. \nAre you familiar with Quiltworx patterns and have one in progress? You are welcome to bring that to the retreat and work on finishing. \nQuiltworx Certified Instructor Nancy Kloster is ready to help \nFor more information\, please click here.
URL:https://new.quiltworx.com/event/quiltworx-retreat-at-creative-passions-retreat-center-2/2022-11-08/
LOCATION:AB
CATEGORIES:Desert Sky,Nancy Kloster
ORGANIZER;CN="Creative Passions Crop and Quilt Retreat Center":MAILTO:lgreenfelder@hotmail.com
END:VEVENT
BEGIN:VEVENT
DTSTART;TZID=America/Denver:20221109T190000
DTEND;TZID=America/Denver:20221113T150000
DTSTAMP:20260419T233847
CREATED:20190624T175503Z
LAST-MODIFIED:20200325T131434Z
UID:10007704-1668020400-1668351600@new.quiltworx.com
SUMMARY:Quiltworx Retreat at Creative Passions Retreat Center
DESCRIPTION:Choose your Quiltworx pattern the Desert Sky or Ripples (from the Geese Migration Book).  Both patterns are great for anyone new to Judy Niemeyer’s foundation paper piecing techniques. \nAre you familiar with Quiltworx patterns and have one in progress? You are welcome to bring that to the retreat and work on finishing. \nQuiltworx Certified Instructor Nancy Kloster is ready to help \nFor more information\, please click here.
URL:https://new.quiltworx.com/event/quiltworx-retreat-at-creative-passions-retreat-center-2/2022-11-09/
LOCATION:AB
CATEGORIES:Desert Sky,Nancy Kloster
ORGANIZER;CN="Creative Passions Crop and Quilt Retreat Center":MAILTO:lgreenfelder@hotmail.com
END:VEVENT
BEGIN:VEVENT
DTSTART;TZID=America/Denver:20221110T190000
DTEND;TZID=America/Denver:20221114T150000
DTSTAMP:20260419T233847
CREATED:20190624T175503Z
LAST-MODIFIED:20200325T131434Z
UID:10007705-1668106800-1668438000@new.quiltworx.com
SUMMARY:Quiltworx Retreat at Creative Passions Retreat Center
DESCRIPTION:Choose your Quiltworx pattern the Desert Sky or Ripples (from the Geese Migration Book).  Both patterns are great for anyone new to Judy Niemeyer’s foundation paper piecing techniques. \nAre you familiar with Quiltworx patterns and have one in progress? You are welcome to bring that to the retreat and work on finishing. \nQuiltworx Certified Instructor Nancy Kloster is ready to help \nFor more information\, please click here.
URL:https://new.quiltworx.com/event/quiltworx-retreat-at-creative-passions-retreat-center-2/2022-11-10/
LOCATION:AB
CATEGORIES:Desert Sky,Nancy Kloster
ORGANIZER;CN="Creative Passions Crop and Quilt Retreat Center":MAILTO:lgreenfelder@hotmail.com
END:VEVENT
BEGIN:VEVENT
DTSTART;TZID=America/Denver:20221111T190000
DTEND;TZID=America/Denver:20221115T150000
DTSTAMP:20260419T233847
CREATED:20190624T175503Z
LAST-MODIFIED:20200325T131434Z
UID:10007706-1668193200-1668524400@new.quiltworx.com
SUMMARY:Quiltworx Retreat at Creative Passions Retreat Center
DESCRIPTION:Choose your Quiltworx pattern the Desert Sky or Ripples (from the Geese Migration Book).  Both patterns are great for anyone new to Judy Niemeyer’s foundation paper piecing techniques. \nAre you familiar with Quiltworx patterns and have one in progress? You are welcome to bring that to the retreat and work on finishing. \nQuiltworx Certified Instructor Nancy Kloster is ready to help \nFor more information\, please click here.
URL:https://new.quiltworx.com/event/quiltworx-retreat-at-creative-passions-retreat-center-2/2022-11-11/
LOCATION:AB
CATEGORIES:Desert Sky,Nancy Kloster
ORGANIZER;CN="Creative Passions Crop and Quilt Retreat Center":MAILTO:lgreenfelder@hotmail.com
END:VEVENT
BEGIN:VEVENT
DTSTART;TZID=America/Denver:20221112T090000
DTEND;TZID=America/Denver:20221113T160000
DTSTAMP:20260419T233847
CREATED:20211229T220532Z
LAST-MODIFIED:20211229T220532Z
UID:10002996-1668243600-1668355200@new.quiltworx.com
SUMMARY:Quiltworx 2 Day Retreat in Iowa
DESCRIPTION:Spend 2 days with Quiltworx certified instructor May Black.  Bring any Quiltworx project you are working on or wanting to start.  Stop looking at that Quiltworx pattern and let us help you get it started.   As a certified Quiltworx shop\, all of the staff at Mended Hearts are fully qualified to help you pick out your pattern and/or fabric for this workshop.  Beginners are always welcome!!
URL:https://new.quiltworx.com/event/quiltworx-2-day-retreat-in-iowa-4/
LOCATION:Mended Hearts Quilting & Boutique\, 3212 330th Street\, Ellsworth\, IA\, 50075\, United States
CATEGORIES:May Black,Mended Hearts Quilting & Boutique
GEO:42.3097358;-93.5373534
X-APPLE-STRUCTURED-LOCATION;VALUE=URI;X-ADDRESS=Mended Hearts Quilting & Boutique 3212 330th Street Ellsworth IA 50075 United States;X-APPLE-RADIUS=500;X-TITLE=3212 330th Street:geo:-93.5373534,42.3097358
END:VEVENT
BEGIN:VEVENT
DTSTART;TZID=America/Denver:20221112T100000
DTEND;TZID=America/Denver:20221112T153000
DTSTAMP:20260419T233847
CREATED:20190821T020906Z
LAST-MODIFIED:20191217T222045Z
UID:10008900-1668247200-1668267000@new.quiltworx.com
SUMMARY:Watermelon Placemats Workshop 1 of 2
DESCRIPTION:Awesome Watermelon Placemats! Refreshing to look at and loaded with many of Judy’s techniques. This small project will give you the opportunity to learn Floating Points\, Curved Piecing\, Bias Strips and Applique. \nTwo Workshops – Friday\,  February 21\, 2020 AND Saturday\, February 22\, 2020 \nTo visit the Ann Arbor Sewing Center Website\, please click here.
URL:https://new.quiltworx.com/event/watermelon-placemats-workshop-1-of-2/2022-11-12/
LOCATION:Ann Arbor Sewing Center\, 5235 Jackson Road\, Ann Arbor\, MI\, 48103\, United States
CATEGORIES:Nancy Kloster
ATTACH;FMTTYPE=image/jpeg:https://d90udyyio1r4.cloudfront.net/wp-content/uploads/2013/09/Watermelon-PM-Mandarin-Grove-CS.jpg
ORGANIZER;CN="Ann Arbor Sewing Center":MAILTO:Annarborsewingcenter@annarborsewing.com
GEO:42.2875554;-83.8333923
X-APPLE-STRUCTURED-LOCATION;VALUE=URI;X-ADDRESS=Ann Arbor Sewing Center 5235 Jackson Road Ann Arbor MI 48103 United States;X-APPLE-RADIUS=500;X-TITLE=5235 Jackson Road:geo:-83.8333923,42.2875554
END:VEVENT
BEGIN:VEVENT
DTSTART;TZID=America/Denver:20221112T100000
DTEND;TZID=America/Denver:20221112T153000
DTSTAMP:20260419T233847
CREATED:20190821T021417Z
LAST-MODIFIED:20191217T221915Z
UID:10010039-1668247200-1668267000@new.quiltworx.com
SUMMARY:Watermelon Placemats Workshop 2 of 2
DESCRIPTION:Awesome Watermelon Placemats! Refreshing to look at and loaded with many of Judy’s techniques. This small project will give you the opportunity to learn Floating Points\, Curved Piecing\, Bias Strips and Applique. \nTwo Workshops – Friday\, February 21\, 2020 AND Saturday\, February 22\, 2020 \nTo visit the Ann Arbor Sewing Center website\, please click here.
URL:https://new.quiltworx.com/event/watermelon-placemats-workshop-2-of-2/2022-11-12/
LOCATION:Ann Arbor Sewing Center\, 5235 Jackson Road\, Ann Arbor\, MI\, 48103\, United States
CATEGORIES:Nancy Kloster
ATTACH;FMTTYPE=image/jpeg:https://d90udyyio1r4.cloudfront.net/wp-content/uploads/2019/03/Watermelon-Placemats-MG-1Pg-KS-3-21-19.jpg
ORGANIZER;CN="Ann Arbor Sewing Center":MAILTO:Annarborsewingcenter@annarborsewing.com
GEO:42.2875554;-83.8333923
X-APPLE-STRUCTURED-LOCATION;VALUE=URI;X-ADDRESS=Ann Arbor Sewing Center 5235 Jackson Road Ann Arbor MI 48103 United States;X-APPLE-RADIUS=500;X-TITLE=5235 Jackson Road:geo:-83.8333923,42.2875554
END:VEVENT
BEGIN:VEVENT
DTSTART;TZID=America/Anchorage:20221112T103000
DTEND;TZID=America/Anchorage:20221112T164500
DTSTAMP:20260419T233847
CREATED:20221105T143301Z
LAST-MODIFIED:20221105T143301Z
UID:10010424-1668249000-1668271500@new.quiltworx.com
SUMMARY:Frozen Fountain or BYO Quiltworx UFO 2-day workshop
DESCRIPTION:Bring your own Judy Niemeyer/Quiltworx project OR make the beautiful Frozen Fountain quilt (65″x65″) using the foundation paper piecing technique. Join Certified Instructor Carin Brimley and learn techniques\, tips\, and tricks the Quiltworx way. \nOR – pull out your Quiltworx UFO and let’s git’r done! \n*Pre-class preparation (or bagging) required for the Frozen Fountain – how-to videos available upon request. \n*A free 90-minute zoom coloring consultation with Carin is available using the Quiltster program.
URL:https://new.quiltworx.com/event/frozen-fountain-or-byo-quiltworx-ufo-2-day-workshop/2022-11-12/
LOCATION:Quilting Mayhem\, 1011 Second Street\, Snohoimish\, WA\, 98290\, United States
CATEGORIES:Carin Brimley
GEO:47.9125459;-122.0950301
X-APPLE-STRUCTURED-LOCATION;VALUE=URI;X-ADDRESS=Quilting Mayhem 1011 Second Street Snohoimish WA 98290 United States;X-APPLE-RADIUS=500;X-TITLE=1011 Second Street:geo:-122.0950301,47.9125459
END:VEVENT
BEGIN:VEVENT
DTSTART;TZID=America/Denver:20221112T190000
DTEND;TZID=America/Denver:20221116T150000
DTSTAMP:20260419T233847
CREATED:20190624T175503Z
LAST-MODIFIED:20200325T131434Z
UID:10007707-1668279600-1668610800@new.quiltworx.com
SUMMARY:Quiltworx Retreat at Creative Passions Retreat Center
DESCRIPTION:Choose your Quiltworx pattern the Desert Sky or Ripples (from the Geese Migration Book).  Both patterns are great for anyone new to Judy Niemeyer’s foundation paper piecing techniques. \nAre you familiar with Quiltworx patterns and have one in progress? You are welcome to bring that to the retreat and work on finishing. \nQuiltworx Certified Instructor Nancy Kloster is ready to help \nFor more information\, please click here.
URL:https://new.quiltworx.com/event/quiltworx-retreat-at-creative-passions-retreat-center-2/2022-11-12/
LOCATION:AB
CATEGORIES:Desert Sky,Nancy Kloster
ORGANIZER;CN="Creative Passions Crop and Quilt Retreat Center":MAILTO:lgreenfelder@hotmail.com
END:VEVENT
END:VCALENDAR