BEGIN:VCALENDAR
VERSION:2.0
PRODID:-//Quiltworx.com - ECPv6.3.4//NONSGML v1.0//EN
CALSCALE:GREGORIAN
METHOD:PUBLISH
X-ORIGINAL-URL:https://new.quiltworx.com
X-WR-CALDESC:Events for Quiltworx.com
REFRESH-INTERVAL;VALUE=DURATION:PT1H
X-Robots-Tag:noindex
X-PUBLISHED-TTL:PT1H
BEGIN:VTIMEZONE
TZID:America/Denver
BEGIN:DAYLIGHT
TZOFFSETFROM:-0700
TZOFFSETTO:-0600
TZNAME:MDT
DTSTART:20220313T090000
END:DAYLIGHT
BEGIN:STANDARD
TZOFFSETFROM:-0600
TZOFFSETTO:-0700
TZNAME:MST
DTSTART:20221106T080000
END:STANDARD
TZID:Asia/Jakarta
BEGIN:STANDARD
TZOFFSETFROM:+0700
TZOFFSETTO:+0700
TZNAME:WIB
DTSTART:20220101T000000
END:STANDARD
TZID:America/Chicago
BEGIN:DAYLIGHT
TZOFFSETFROM:-0600
TZOFFSETTO:-0500
TZNAME:CDT
DTSTART:20220313T080000
END:DAYLIGHT
BEGIN:STANDARD
TZOFFSETFROM:-0500
TZOFFSETTO:-0600
TZNAME:CST
DTSTART:20221106T070000
END:STANDARD
END:VTIMEZONE
BEGIN:VEVENT
DTSTART;TZID=America/Denver:20220605T090000
DTEND;TZID=America/Denver:20221127T140000
DTSTAMP:20260421T015741
CREATED:20220105T174950Z
LAST-MODIFIED:20220105T174950Z
UID:10010336-1654419600-1669557600@new.quiltworx.com
SUMMARY:Quiltworx Technique Quilt
DESCRIPTION:Did you miss the class? This is your chance to do one of the Quiltworx technique quilts. Paradise in Bloom (3 only)\, Vintage Rose\, Dinner Plate Dahlia\, or Corel Reef are your choices.
URL:https://new.quiltworx.com/event/quiltworx-technique-quilt/2022-06-05/
LOCATION:Sharon’s Attic Quilt Shop\, 2950 SE Cornelius Pass Rd\, Hillsboro\, OR\, 97123\, United States
CATEGORIES:Carol Hattan,Coral Reef,Dinner Plate Dahlia,Vintage Rose
ORGANIZER;CN="Sharon Rice":MAILTO:quilter5427@hotmail.com
GEO:45.4985096;-122.9015758
X-APPLE-STRUCTURED-LOCATION;VALUE=URI;X-ADDRESS=Sharon’s Attic Quilt Shop 2950 SE Cornelius Pass Rd Hillsboro OR 97123 United States;X-APPLE-RADIUS=500;X-TITLE=2950 SE Cornelius Pass Rd:geo:-122.9015758,45.4985096
END:VEVENT
BEGIN:VEVENT
DTSTART;TZID=America/Denver:20220611T103000
DTEND;TZID=America/Denver:20221105T153000
DTSTAMP:20260421T015742
CREATED:20220105T172511Z
LAST-MODIFIED:20220105T174045Z
UID:10010323-1654943400-1667662200@new.quiltworx.com
SUMMARY:Vintage Rose or Dinner Plate Dalhia
DESCRIPTION:Beginning in February join us for the construction of your choice of Dinner Plate Dahlia or Vintage Rose. Plan to meet with Carol ahead of time if you need help in selecting fabrics or designing your quilt with Quilster.
URL:https://new.quiltworx.com/event/vintage-rose-or-dinner-plate-dalhia/2022-06-11/
LOCATION:Cedar Ridge\, 19045 S Beavercreek Rd.\, Oregon City\, OR\, 97045\, United States
CATEGORIES:Carol Hattan,Coral Reef,Dinner Plate Dahlia,Vintage Rose
GEO:45.3292522;-122.5719057
X-APPLE-STRUCTURED-LOCATION;VALUE=URI;X-ADDRESS=Cedar Ridge 19045 S Beavercreek Rd. Oregon City OR 97045 United States;X-APPLE-RADIUS=500;X-TITLE=19045 S Beavercreek Rd.:geo:-122.5719057,45.3292522
END:VEVENT
BEGIN:VEVENT
DTSTART;TZID=America/Denver:20220618T100000
DTEND;TZID=America/Denver:20221112T140000
DTSTAMP:20260421T015742
CREATED:20220105T173711Z
LAST-MODIFIED:20220105T173711Z
UID:10010329-1655546400-1668261600@new.quiltworx.com
SUMMARY:Coral Reef or Dinner Plate Dalhia
DESCRIPTION:For the first time I will be offering a technique class in Vancouver. Join me at the new Just For Fun Quilting shop and make a beautiful quilt while learning the Quiltworx technique for foundation piecing. If possible meet with me ahead of time for pattern purchases\, help in color planning of your quilt from pattern or with the help of Quiltster.
URL:https://new.quiltworx.com/event/coral-reef-or-dinner-plate-dalhia/2022-06-18/
LOCATION:Just for Fun Quilting\, 2503 NE 78th #12\, Vancouver\, WA\, 98661\, United States
CATEGORIES:Carol Hattan,Coral Reef,Dinner Plate Dahlia
GEO:45.6781603;-122.6460756
X-APPLE-STRUCTURED-LOCATION;VALUE=URI;X-ADDRESS=Just for Fun Quilting 2503 NE 78th #12 Vancouver WA 98661 United States;X-APPLE-RADIUS=500;X-TITLE=2503 NE 78th #12:geo:-122.6460756,45.6781603
END:VEVENT
BEGIN:VEVENT
DTSTART;TZID=America/Denver:20220703T090000
DTEND;TZID=America/Denver:20221225T140000
DTSTAMP:20260421T015742
CREATED:20220105T174950Z
LAST-MODIFIED:20220105T174950Z
UID:10010337-1656838800-1671976800@new.quiltworx.com
SUMMARY:Quiltworx Technique Quilt
DESCRIPTION:Did you miss the class? This is your chance to do one of the Quiltworx technique quilts. Paradise in Bloom (3 only)\, Vintage Rose\, Dinner Plate Dahlia\, or Corel Reef are your choices.
URL:https://new.quiltworx.com/event/quiltworx-technique-quilt/2022-07-03/
LOCATION:Sharon’s Attic Quilt Shop\, 2950 SE Cornelius Pass Rd\, Hillsboro\, OR\, 97123\, United States
CATEGORIES:Carol Hattan,Coral Reef,Dinner Plate Dahlia,Vintage Rose
ORGANIZER;CN="Sharon Rice":MAILTO:quilter5427@hotmail.com
GEO:45.4985096;-122.9015758
X-APPLE-STRUCTURED-LOCATION;VALUE=URI;X-ADDRESS=Sharon’s Attic Quilt Shop 2950 SE Cornelius Pass Rd Hillsboro OR 97123 United States;X-APPLE-RADIUS=500;X-TITLE=2950 SE Cornelius Pass Rd:geo:-122.9015758,45.4985096
END:VEVENT
BEGIN:VEVENT
DTSTART;TZID=America/Denver:20220709T103000
DTEND;TZID=America/Denver:20221203T143000
DTSTAMP:20260421T015742
CREATED:20220105T172511Z
LAST-MODIFIED:20220105T174045Z
UID:10010324-1657362600-1670077800@new.quiltworx.com
SUMMARY:Vintage Rose or Dinner Plate Dalhia
DESCRIPTION:Beginning in February join us for the construction of your choice of Dinner Plate Dahlia or Vintage Rose. Plan to meet with Carol ahead of time if you need help in selecting fabrics or designing your quilt with Quilster.
URL:https://new.quiltworx.com/event/vintage-rose-or-dinner-plate-dalhia/2022-07-09/
LOCATION:Cedar Ridge\, 19045 S Beavercreek Rd.\, Oregon City\, OR\, 97045\, United States
CATEGORIES:Carol Hattan,Coral Reef,Dinner Plate Dahlia,Vintage Rose
GEO:45.3292522;-122.5719057
X-APPLE-STRUCTURED-LOCATION;VALUE=URI;X-ADDRESS=Cedar Ridge 19045 S Beavercreek Rd. Oregon City OR 97045 United States;X-APPLE-RADIUS=500;X-TITLE=19045 S Beavercreek Rd.:geo:-122.5719057,45.3292522
END:VEVENT
BEGIN:VEVENT
DTSTART;TZID=America/Denver:20220716T100000
DTEND;TZID=America/Denver:20221210T140000
DTSTAMP:20260421T015742
CREATED:20220105T173711Z
LAST-MODIFIED:20220105T173711Z
UID:10010330-1657965600-1670680800@new.quiltworx.com
SUMMARY:Coral Reef or Dinner Plate Dalhia
DESCRIPTION:For the first time I will be offering a technique class in Vancouver. Join me at the new Just For Fun Quilting shop and make a beautiful quilt while learning the Quiltworx technique for foundation piecing. If possible meet with me ahead of time for pattern purchases\, help in color planning of your quilt from pattern or with the help of Quiltster.
URL:https://new.quiltworx.com/event/coral-reef-or-dinner-plate-dalhia/2022-07-16/
LOCATION:Just for Fun Quilting\, 2503 NE 78th #12\, Vancouver\, WA\, 98661\, United States
CATEGORIES:Carol Hattan,Coral Reef,Dinner Plate Dahlia
GEO:45.6781603;-122.6460756
X-APPLE-STRUCTURED-LOCATION;VALUE=URI;X-ADDRESS=Just for Fun Quilting 2503 NE 78th #12 Vancouver WA 98661 United States;X-APPLE-RADIUS=500;X-TITLE=2503 NE 78th #12:geo:-122.6460756,45.6781603
END:VEVENT
BEGIN:VEVENT
DTSTART;TZID=America/Denver:20221020T103000
DTEND;TZID=America/Denver:20221103T160000
DTSTAMP:20260421T015742
CREATED:20220916T154355Z
LAST-MODIFIED:20220916T155100Z
UID:10010317-1666261800-1667491200@new.quiltworx.com
SUMMARY:Christmas Celebrations Tree Skirt Workshop
DESCRIPTION:
URL:https://new.quiltworx.com/event/christmas-celebrations-tree-skirt-workshop/2022-10-20/
LOCATION:Sew Creative Threads\, 189 CR 6 W\, Elkhart\, IN\, 46514\, United States
CATEGORIES:Christmas Celebration Tree Skirt,Tammy Gardner
GEO:41.7242981;-85.9753165
X-APPLE-STRUCTURED-LOCATION;VALUE=URI;X-ADDRESS=Sew Creative Threads 189 CR 6 W Elkhart IN 46514 United States;X-APPLE-RADIUS=500;X-TITLE=189 CR 6 W:geo:-85.9753165,41.7242981
END:VEVENT
BEGIN:VEVENT
DTSTART;TZID=America/Denver:20221026T190000
DTEND;TZID=America/Denver:20221030T150000
DTSTAMP:20260421T015742
CREATED:20190624T175503Z
LAST-MODIFIED:20200325T131434Z
UID:10007690-1666810800-1667142000@new.quiltworx.com
SUMMARY:Quiltworx Retreat at Creative Passions Retreat Center
DESCRIPTION:Choose your Quiltworx pattern the Desert Sky or Ripples (from the Geese Migration Book).  Both patterns are great for anyone new to Judy Niemeyer’s foundation paper piecing techniques. \nAre you familiar with Quiltworx patterns and have one in progress? You are welcome to bring that to the retreat and work on finishing. \nQuiltworx Certified Instructor Nancy Kloster is ready to help \nFor more information\, please click here.
URL:https://new.quiltworx.com/event/quiltworx-retreat-at-creative-passions-retreat-center-2/2022-10-26/
LOCATION:AB
CATEGORIES:Desert Sky,Nancy Kloster
ORGANIZER;CN="Creative Passions Crop and Quilt Retreat Center":MAILTO:lgreenfelder@hotmail.com
END:VEVENT
BEGIN:VEVENT
DTSTART;TZID=America/Denver:20221027T103000
DTEND;TZID=America/Denver:20221110T150000
DTSTAMP:20260421T015742
CREATED:20220916T154355Z
LAST-MODIFIED:20220916T155100Z
UID:10010318-1666866600-1668092400@new.quiltworx.com
SUMMARY:Christmas Celebrations Tree Skirt Workshop
DESCRIPTION:
URL:https://new.quiltworx.com/event/christmas-celebrations-tree-skirt-workshop/2022-10-27/
LOCATION:Sew Creative Threads\, 189 CR 6 W\, Elkhart\, IN\, 46514\, United States
CATEGORIES:Christmas Celebration Tree Skirt,Tammy Gardner
GEO:41.7242981;-85.9753165
X-APPLE-STRUCTURED-LOCATION;VALUE=URI;X-ADDRESS=Sew Creative Threads 189 CR 6 W Elkhart IN 46514 United States;X-APPLE-RADIUS=500;X-TITLE=189 CR 6 W:geo:-85.9753165,41.7242981
END:VEVENT
BEGIN:VEVENT
DTSTART;TZID=America/Denver:20221027T190000
DTEND;TZID=America/Denver:20221031T150000
DTSTAMP:20260421T015742
CREATED:20190624T175503Z
LAST-MODIFIED:20200325T131434Z
UID:10007691-1666897200-1667228400@new.quiltworx.com
SUMMARY:Quiltworx Retreat at Creative Passions Retreat Center
DESCRIPTION:Choose your Quiltworx pattern the Desert Sky or Ripples (from the Geese Migration Book).  Both patterns are great for anyone new to Judy Niemeyer’s foundation paper piecing techniques. \nAre you familiar with Quiltworx patterns and have one in progress? You are welcome to bring that to the retreat and work on finishing. \nQuiltworx Certified Instructor Nancy Kloster is ready to help \nFor more information\, please click here.
URL:https://new.quiltworx.com/event/quiltworx-retreat-at-creative-passions-retreat-center-2/2022-10-27/
LOCATION:AB
CATEGORIES:Desert Sky,Nancy Kloster
ORGANIZER;CN="Creative Passions Crop and Quilt Retreat Center":MAILTO:lgreenfelder@hotmail.com
END:VEVENT
BEGIN:VEVENT
DTSTART;VALUE=DATE:20221028
DTEND;VALUE=DATE:20221031
DTSTAMP:20260421T015742
CREATED:20230427T041200Z
LAST-MODIFIED:20230427T041200Z
UID:10015747-1666915200-1667174399@new.quiltworx.com
SUMMARY:Quiltworx Retreat Oct 2022
DESCRIPTION:A 7-days of fun sewing & sightseeing in Solo\, Indonesia
URL:https://new.quiltworx.com/event/quiltworx-retreat-oct-2022/
LOCATION:Lorin Solo Hotel\, Colomadu\, Karanganyar\, Jawa Tengah\, 57174\, Indonesia
CATEGORIES:Fractured Paint Box,Ribbons and Bows Wedding Ring,Wiwik Winarni
GEO:-7.5412804;110.7703569
X-APPLE-STRUCTURED-LOCATION;VALUE=URI;X-ADDRESS=Lorin Solo Hotel Colomadu Karanganyar Jawa Tengah 57174 Indonesia;X-APPLE-RADIUS=500;X-TITLE=Colomadu:geo:110.7703569,-7.5412804
END:VEVENT
BEGIN:VEVENT
DTSTART;TZID=America/Chicago:20221028T093000
DTEND;TZID=America/Chicago:20221030T160000
DTSTAMP:20260421T015742
CREATED:20220101T170329Z
LAST-MODIFIED:20220219T210925Z
UID:10002995-1666949400-1667145600@new.quiltworx.com
SUMMARY:Honeycomb session 2\, Acme Fabric and Quilt Co\, Blair\, NE\, October 28\, 29\, and 30\, 2022
DESCRIPTION:
URL:https://new.quiltworx.com/event/honeycomb-session-2-acme-fabric-and-quilt-co-blair-ne-october-28-29-and-30-2022/
LOCATION:Acme Fabric and Quilt Co.\, 1716 Washington St.\, Blair\, NE 68008\, NE\, 68008\, United States
CATEGORIES:Connie Lange
ORGANIZER;CN="Acme Fabric and Quilt Company":MAILTO:coyote@acmefabric.com
GEO:41.5438637;-96.1382803
X-APPLE-STRUCTURED-LOCATION;VALUE=URI;X-ADDRESS=Acme Fabric and Quilt Co. 1716 Washington St. Blair NE 68008 NE 68008 United States;X-APPLE-RADIUS=500;X-TITLE=1716 Washington St.:geo:-96.1382803,41.5438637
END:VEVENT
BEGIN:VEVENT
DTSTART;TZID=America/Denver:20221028T170000
DTEND;TZID=America/Denver:20221030T130000
DTSTAMP:20260421T015742
CREATED:20220314T122259Z
LAST-MODIFIED:20220314T122259Z
UID:10002990-1666976400-1667134800@new.quiltworx.com
SUMMARY:Quiltworx Retreat - Rather Bee Quilting (Lake City\, MN)
DESCRIPTION:
URL:https://new.quiltworx.com/event/quiltworx-retreat-rather-bee-quilting-lake-city-mn-2/
LOCATION:Rather Bee Quilting\, 106 South Lakeshore Drive\, Lake City\, MN\, 55041\, United States
CATEGORIES:Jodie Madison
ORGANIZER;CN="Janet Bruce and Judy Rutz":MAILTO:janetbruce@embarqmail.com
GEO:44.4491041;-92.2666168
X-APPLE-STRUCTURED-LOCATION;VALUE=URI;X-ADDRESS=Rather Bee Quilting 106 South Lakeshore Drive Lake City MN 55041 United States;X-APPLE-RADIUS=500;X-TITLE=106 South Lakeshore Drive:geo:-92.2666168,44.4491041
END:VEVENT
BEGIN:VEVENT
DTSTART;TZID=America/Denver:20221028T190000
DTEND;TZID=America/Denver:20221101T150000
DTSTAMP:20260421T015742
CREATED:20190624T175503Z
LAST-MODIFIED:20200325T131434Z
UID:10007692-1666983600-1667314800@new.quiltworx.com
SUMMARY:Quiltworx Retreat at Creative Passions Retreat Center
DESCRIPTION:Choose your Quiltworx pattern the Desert Sky or Ripples (from the Geese Migration Book).  Both patterns are great for anyone new to Judy Niemeyer’s foundation paper piecing techniques. \nAre you familiar with Quiltworx patterns and have one in progress? You are welcome to bring that to the retreat and work on finishing. \nQuiltworx Certified Instructor Nancy Kloster is ready to help \nFor more information\, please click here.
URL:https://new.quiltworx.com/event/quiltworx-retreat-at-creative-passions-retreat-center-2/2022-10-28/
LOCATION:AB
CATEGORIES:Desert Sky,Nancy Kloster
ORGANIZER;CN="Creative Passions Crop and Quilt Retreat Center":MAILTO:lgreenfelder@hotmail.com
END:VEVENT
BEGIN:VEVENT
DTSTART;TZID=America/Denver:20221029T190000
DTEND;TZID=America/Denver:20221102T150000
DTSTAMP:20260421T015742
CREATED:20190624T175503Z
LAST-MODIFIED:20200325T131434Z
UID:10007693-1667070000-1667401200@new.quiltworx.com
SUMMARY:Quiltworx Retreat at Creative Passions Retreat Center
DESCRIPTION:Choose your Quiltworx pattern the Desert Sky or Ripples (from the Geese Migration Book).  Both patterns are great for anyone new to Judy Niemeyer’s foundation paper piecing techniques. \nAre you familiar with Quiltworx patterns and have one in progress? You are welcome to bring that to the retreat and work on finishing. \nQuiltworx Certified Instructor Nancy Kloster is ready to help \nFor more information\, please click here.
URL:https://new.quiltworx.com/event/quiltworx-retreat-at-creative-passions-retreat-center-2/2022-10-29/
LOCATION:AB
CATEGORIES:Desert Sky,Nancy Kloster
ORGANIZER;CN="Creative Passions Crop and Quilt Retreat Center":MAILTO:lgreenfelder@hotmail.com
END:VEVENT
BEGIN:VEVENT
DTSTART;TZID=America/Denver:20221030T100000
DTEND;TZID=America/Denver:20221030T153000
DTSTAMP:20260421T015742
CREATED:20190821T020906Z
LAST-MODIFIED:20191217T222045Z
UID:10008887-1667124000-1667143800@new.quiltworx.com
SUMMARY:Watermelon Placemats Workshop 1 of 2
DESCRIPTION:Awesome Watermelon Placemats! Refreshing to look at and loaded with many of Judy’s techniques. This small project will give you the opportunity to learn Floating Points\, Curved Piecing\, Bias Strips and Applique. \nTwo Workshops – Friday\,  February 21\, 2020 AND Saturday\, February 22\, 2020 \nTo visit the Ann Arbor Sewing Center Website\, please click here.
URL:https://new.quiltworx.com/event/watermelon-placemats-workshop-1-of-2/2022-10-30/
LOCATION:Ann Arbor Sewing Center\, 5235 Jackson Road\, Ann Arbor\, MI\, 48103\, United States
CATEGORIES:Nancy Kloster
ATTACH;FMTTYPE=image/jpeg:https://d90udyyio1r4.cloudfront.net/wp-content/uploads/2013/09/Watermelon-PM-Mandarin-Grove-CS.jpg
ORGANIZER;CN="Ann Arbor Sewing Center":MAILTO:Annarborsewingcenter@annarborsewing.com
GEO:42.2875554;-83.8333923
X-APPLE-STRUCTURED-LOCATION;VALUE=URI;X-ADDRESS=Ann Arbor Sewing Center 5235 Jackson Road Ann Arbor MI 48103 United States;X-APPLE-RADIUS=500;X-TITLE=5235 Jackson Road:geo:-83.8333923,42.2875554
END:VEVENT
BEGIN:VEVENT
DTSTART;TZID=America/Denver:20221030T100000
DTEND;TZID=America/Denver:20221030T153000
DTSTAMP:20260421T015743
CREATED:20190821T021417Z
LAST-MODIFIED:20191217T221915Z
UID:10010026-1667124000-1667143800@new.quiltworx.com
SUMMARY:Watermelon Placemats Workshop 2 of 2
DESCRIPTION:Awesome Watermelon Placemats! Refreshing to look at and loaded with many of Judy’s techniques. This small project will give you the opportunity to learn Floating Points\, Curved Piecing\, Bias Strips and Applique. \nTwo Workshops – Friday\, February 21\, 2020 AND Saturday\, February 22\, 2020 \nTo visit the Ann Arbor Sewing Center website\, please click here.
URL:https://new.quiltworx.com/event/watermelon-placemats-workshop-2-of-2/2022-10-30/
LOCATION:Ann Arbor Sewing Center\, 5235 Jackson Road\, Ann Arbor\, MI\, 48103\, United States
CATEGORIES:Nancy Kloster
ATTACH;FMTTYPE=image/jpeg:https://d90udyyio1r4.cloudfront.net/wp-content/uploads/2019/03/Watermelon-Placemats-MG-1Pg-KS-3-21-19.jpg
ORGANIZER;CN="Ann Arbor Sewing Center":MAILTO:Annarborsewingcenter@annarborsewing.com
GEO:42.2875554;-83.8333923
X-APPLE-STRUCTURED-LOCATION;VALUE=URI;X-ADDRESS=Ann Arbor Sewing Center 5235 Jackson Road Ann Arbor MI 48103 United States;X-APPLE-RADIUS=500;X-TITLE=5235 Jackson Road:geo:-83.8333923,42.2875554
END:VEVENT
BEGIN:VEVENT
DTSTART;TZID=America/Denver:20221030T190000
DTEND;TZID=America/Denver:20221103T150000
DTSTAMP:20260421T015743
CREATED:20190624T175503Z
LAST-MODIFIED:20200325T131434Z
UID:10007694-1667156400-1667487600@new.quiltworx.com
SUMMARY:Quiltworx Retreat at Creative Passions Retreat Center
DESCRIPTION:Choose your Quiltworx pattern the Desert Sky or Ripples (from the Geese Migration Book).  Both patterns are great for anyone new to Judy Niemeyer’s foundation paper piecing techniques. \nAre you familiar with Quiltworx patterns and have one in progress? You are welcome to bring that to the retreat and work on finishing. \nQuiltworx Certified Instructor Nancy Kloster is ready to help \nFor more information\, please click here.
URL:https://new.quiltworx.com/event/quiltworx-retreat-at-creative-passions-retreat-center-2/2022-10-30/
LOCATION:AB
CATEGORIES:Desert Sky,Nancy Kloster
ORGANIZER;CN="Creative Passions Crop and Quilt Retreat Center":MAILTO:lgreenfelder@hotmail.com
END:VEVENT
END:VCALENDAR