BEGIN:VCALENDAR
VERSION:2.0
PRODID:-//Quiltworx.com - ECPv6.3.4//NONSGML v1.0//EN
CALSCALE:GREGORIAN
METHOD:PUBLISH
X-ORIGINAL-URL:https://new.quiltworx.com
X-WR-CALDESC:Events for Quiltworx.com
REFRESH-INTERVAL;VALUE=DURATION:PT1H
X-Robots-Tag:noindex
X-PUBLISHED-TTL:PT1H
BEGIN:VTIMEZONE
TZID:America/Denver
BEGIN:DAYLIGHT
TZOFFSETFROM:-0700
TZOFFSETTO:-0600
TZNAME:MDT
DTSTART:20220313T090000
END:DAYLIGHT
BEGIN:STANDARD
TZOFFSETFROM:-0600
TZOFFSETTO:-0700
TZNAME:MST
DTSTART:20221106T080000
END:STANDARD
END:VTIMEZONE
BEGIN:VEVENT
DTSTART;TZID=America/Denver:20220501T090000
DTEND;TZID=America/Denver:20221023T150000
DTSTAMP:20260422T133926
CREATED:20220105T174950Z
LAST-MODIFIED:20220105T174950Z
UID:10010335-1651395600-1666537200@new.quiltworx.com
SUMMARY:Quiltworx Technique Quilt
DESCRIPTION:Did you miss the class? This is your chance to do one of the Quiltworx technique quilts. Paradise in Bloom (3 only)\, Vintage Rose\, Dinner Plate Dahlia\, or Corel Reef are your choices.
URL:https://new.quiltworx.com/event/quiltworx-technique-quilt/2022-05-01/
LOCATION:Sharon’s Attic Quilt Shop\, 2950 SE Cornelius Pass Rd\, Hillsboro\, OR\, 97123\, United States
CATEGORIES:Carol Hattan,Coral Reef,Dinner Plate Dahlia,Vintage Rose
ORGANIZER;CN="Sharon Rice":MAILTO:quilter5427@hotmail.com
GEO:45.4985096;-122.9015758
X-APPLE-STRUCTURED-LOCATION;VALUE=URI;X-ADDRESS=Sharon’s Attic Quilt Shop 2950 SE Cornelius Pass Rd Hillsboro OR 97123 United States;X-APPLE-RADIUS=500;X-TITLE=2950 SE Cornelius Pass Rd:geo:-122.9015758,45.4985096
END:VEVENT
BEGIN:VEVENT
DTSTART;TZID=America/Denver:20220521T100000
DTEND;TZID=America/Denver:20221015T150000
DTSTAMP:20260422T133926
CREATED:20220105T173711Z
LAST-MODIFIED:20220105T173711Z
UID:10010328-1653127200-1665846000@new.quiltworx.com
SUMMARY:Coral Reef or Dinner Plate Dalhia
DESCRIPTION:For the first time I will be offering a technique class in Vancouver. Join me at the new Just For Fun Quilting shop and make a beautiful quilt while learning the Quiltworx technique for foundation piecing. If possible meet with me ahead of time for pattern purchases\, help in color planning of your quilt from pattern or with the help of Quiltster.
URL:https://new.quiltworx.com/event/coral-reef-or-dinner-plate-dalhia/2022-05-21/
LOCATION:Just for Fun Quilting\, 2503 NE 78th #12\, Vancouver\, WA\, 98661\, United States
CATEGORIES:Carol Hattan,Coral Reef,Dinner Plate Dahlia
GEO:45.6781603;-122.6460756
X-APPLE-STRUCTURED-LOCATION;VALUE=URI;X-ADDRESS=Just for Fun Quilting 2503 NE 78th #12 Vancouver WA 98661 United States;X-APPLE-RADIUS=500;X-TITLE=2503 NE 78th #12:geo:-122.6460756,45.6781603
END:VEVENT
BEGIN:VEVENT
DTSTART;TZID=America/Denver:20220605T090000
DTEND;TZID=America/Denver:20221127T140000
DTSTAMP:20260422T133926
CREATED:20220105T174950Z
LAST-MODIFIED:20220105T174950Z
UID:10010336-1654419600-1669557600@new.quiltworx.com
SUMMARY:Quiltworx Technique Quilt
DESCRIPTION:Did you miss the class? This is your chance to do one of the Quiltworx technique quilts. Paradise in Bloom (3 only)\, Vintage Rose\, Dinner Plate Dahlia\, or Corel Reef are your choices.
URL:https://new.quiltworx.com/event/quiltworx-technique-quilt/2022-06-05/
LOCATION:Sharon’s Attic Quilt Shop\, 2950 SE Cornelius Pass Rd\, Hillsboro\, OR\, 97123\, United States
CATEGORIES:Carol Hattan,Coral Reef,Dinner Plate Dahlia,Vintage Rose
ORGANIZER;CN="Sharon Rice":MAILTO:quilter5427@hotmail.com
GEO:45.4985096;-122.9015758
X-APPLE-STRUCTURED-LOCATION;VALUE=URI;X-ADDRESS=Sharon’s Attic Quilt Shop 2950 SE Cornelius Pass Rd Hillsboro OR 97123 United States;X-APPLE-RADIUS=500;X-TITLE=2950 SE Cornelius Pass Rd:geo:-122.9015758,45.4985096
END:VEVENT
BEGIN:VEVENT
DTSTART;TZID=America/Denver:20220611T103000
DTEND;TZID=America/Denver:20221105T153000
DTSTAMP:20260422T133926
CREATED:20220105T172511Z
LAST-MODIFIED:20220105T174045Z
UID:10010323-1654943400-1667662200@new.quiltworx.com
SUMMARY:Vintage Rose or Dinner Plate Dalhia
DESCRIPTION:Beginning in February join us for the construction of your choice of Dinner Plate Dahlia or Vintage Rose. Plan to meet with Carol ahead of time if you need help in selecting fabrics or designing your quilt with Quilster.
URL:https://new.quiltworx.com/event/vintage-rose-or-dinner-plate-dalhia/2022-06-11/
LOCATION:Cedar Ridge\, 19045 S Beavercreek Rd.\, Oregon City\, OR\, 97045\, United States
CATEGORIES:Carol Hattan,Coral Reef,Dinner Plate Dahlia,Vintage Rose
GEO:45.3292522;-122.5719057
X-APPLE-STRUCTURED-LOCATION;VALUE=URI;X-ADDRESS=Cedar Ridge 19045 S Beavercreek Rd. Oregon City OR 97045 United States;X-APPLE-RADIUS=500;X-TITLE=19045 S Beavercreek Rd.:geo:-122.5719057,45.3292522
END:VEVENT
BEGIN:VEVENT
DTSTART;TZID=America/Denver:20220618T100000
DTEND;TZID=America/Denver:20221112T140000
DTSTAMP:20260422T133926
CREATED:20220105T173711Z
LAST-MODIFIED:20220105T173711Z
UID:10010329-1655546400-1668261600@new.quiltworx.com
SUMMARY:Coral Reef or Dinner Plate Dalhia
DESCRIPTION:For the first time I will be offering a technique class in Vancouver. Join me at the new Just For Fun Quilting shop and make a beautiful quilt while learning the Quiltworx technique for foundation piecing. If possible meet with me ahead of time for pattern purchases\, help in color planning of your quilt from pattern or with the help of Quiltster.
URL:https://new.quiltworx.com/event/coral-reef-or-dinner-plate-dalhia/2022-06-18/
LOCATION:Just for Fun Quilting\, 2503 NE 78th #12\, Vancouver\, WA\, 98661\, United States
CATEGORIES:Carol Hattan,Coral Reef,Dinner Plate Dahlia
GEO:45.6781603;-122.6460756
X-APPLE-STRUCTURED-LOCATION;VALUE=URI;X-ADDRESS=Just for Fun Quilting 2503 NE 78th #12 Vancouver WA 98661 United States;X-APPLE-RADIUS=500;X-TITLE=2503 NE 78th #12:geo:-122.6460756,45.6781603
END:VEVENT
BEGIN:VEVENT
DTSTART;TZID=America/Denver:20220703T090000
DTEND;TZID=America/Denver:20221225T140000
DTSTAMP:20260422T133926
CREATED:20220105T174950Z
LAST-MODIFIED:20220105T174950Z
UID:10010337-1656838800-1671976800@new.quiltworx.com
SUMMARY:Quiltworx Technique Quilt
DESCRIPTION:Did you miss the class? This is your chance to do one of the Quiltworx technique quilts. Paradise in Bloom (3 only)\, Vintage Rose\, Dinner Plate Dahlia\, or Corel Reef are your choices.
URL:https://new.quiltworx.com/event/quiltworx-technique-quilt/2022-07-03/
LOCATION:Sharon’s Attic Quilt Shop\, 2950 SE Cornelius Pass Rd\, Hillsboro\, OR\, 97123\, United States
CATEGORIES:Carol Hattan,Coral Reef,Dinner Plate Dahlia,Vintage Rose
ORGANIZER;CN="Sharon Rice":MAILTO:quilter5427@hotmail.com
GEO:45.4985096;-122.9015758
X-APPLE-STRUCTURED-LOCATION;VALUE=URI;X-ADDRESS=Sharon’s Attic Quilt Shop 2950 SE Cornelius Pass Rd Hillsboro OR 97123 United States;X-APPLE-RADIUS=500;X-TITLE=2950 SE Cornelius Pass Rd:geo:-122.9015758,45.4985096
END:VEVENT
BEGIN:VEVENT
DTSTART;TZID=America/Denver:20220709T103000
DTEND;TZID=America/Denver:20221203T143000
DTSTAMP:20260422T133926
CREATED:20220105T172511Z
LAST-MODIFIED:20220105T174045Z
UID:10010324-1657362600-1670077800@new.quiltworx.com
SUMMARY:Vintage Rose or Dinner Plate Dalhia
DESCRIPTION:Beginning in February join us for the construction of your choice of Dinner Plate Dahlia or Vintage Rose. Plan to meet with Carol ahead of time if you need help in selecting fabrics or designing your quilt with Quilster.
URL:https://new.quiltworx.com/event/vintage-rose-or-dinner-plate-dalhia/2022-07-09/
LOCATION:Cedar Ridge\, 19045 S Beavercreek Rd.\, Oregon City\, OR\, 97045\, United States
CATEGORIES:Carol Hattan,Coral Reef,Dinner Plate Dahlia,Vintage Rose
GEO:45.3292522;-122.5719057
X-APPLE-STRUCTURED-LOCATION;VALUE=URI;X-ADDRESS=Cedar Ridge 19045 S Beavercreek Rd. Oregon City OR 97045 United States;X-APPLE-RADIUS=500;X-TITLE=19045 S Beavercreek Rd.:geo:-122.5719057,45.3292522
END:VEVENT
BEGIN:VEVENT
DTSTART;TZID=America/Denver:20220716T100000
DTEND;TZID=America/Denver:20221210T140000
DTSTAMP:20260422T133926
CREATED:20220105T173711Z
LAST-MODIFIED:20220105T173711Z
UID:10010330-1657965600-1670680800@new.quiltworx.com
SUMMARY:Coral Reef or Dinner Plate Dalhia
DESCRIPTION:For the first time I will be offering a technique class in Vancouver. Join me at the new Just For Fun Quilting shop and make a beautiful quilt while learning the Quiltworx technique for foundation piecing. If possible meet with me ahead of time for pattern purchases\, help in color planning of your quilt from pattern or with the help of Quiltster.
URL:https://new.quiltworx.com/event/coral-reef-or-dinner-plate-dalhia/2022-07-16/
LOCATION:Just for Fun Quilting\, 2503 NE 78th #12\, Vancouver\, WA\, 98661\, United States
CATEGORIES:Carol Hattan,Coral Reef,Dinner Plate Dahlia
GEO:45.6781603;-122.6460756
X-APPLE-STRUCTURED-LOCATION;VALUE=URI;X-ADDRESS=Just for Fun Quilting 2503 NE 78th #12 Vancouver WA 98661 United States;X-APPLE-RADIUS=500;X-TITLE=2503 NE 78th #12:geo:-122.6460756,45.6781603
END:VEVENT
BEGIN:VEVENT
DTSTART;TZID=America/Denver:20221006T190000
DTEND;TZID=America/Denver:20221010T150000
DTSTAMP:20260422T133926
CREATED:20190624T175503Z
LAST-MODIFIED:20200325T131434Z
UID:10007670-1665082800-1665414000@new.quiltworx.com
SUMMARY:Quiltworx Retreat at Creative Passions Retreat Center
DESCRIPTION:Choose your Quiltworx pattern the Desert Sky or Ripples (from the Geese Migration Book).  Both patterns are great for anyone new to Judy Niemeyer’s foundation paper piecing techniques. \nAre you familiar with Quiltworx patterns and have one in progress? You are welcome to bring that to the retreat and work on finishing. \nQuiltworx Certified Instructor Nancy Kloster is ready to help \nFor more information\, please click here.
URL:https://new.quiltworx.com/event/quiltworx-retreat-at-creative-passions-retreat-center-2/2022-10-06/
LOCATION:MI
CATEGORIES:Desert Sky,Nancy Kloster
ORGANIZER;CN="Creative Passions Crop and Quilt Retreat Center":MAILTO:lgreenfelder@hotmail.com
END:VEVENT
BEGIN:VEVENT
DTSTART;TZID=America/Denver:20221007T190000
DTEND;TZID=America/Denver:20221011T150000
DTSTAMP:20260422T133926
CREATED:20190624T175503Z
LAST-MODIFIED:20200325T131434Z
UID:10007671-1665169200-1665500400@new.quiltworx.com
SUMMARY:Quiltworx Retreat at Creative Passions Retreat Center
DESCRIPTION:Choose your Quiltworx pattern the Desert Sky or Ripples (from the Geese Migration Book).  Both patterns are great for anyone new to Judy Niemeyer’s foundation paper piecing techniques. \nAre you familiar with Quiltworx patterns and have one in progress? You are welcome to bring that to the retreat and work on finishing. \nQuiltworx Certified Instructor Nancy Kloster is ready to help \nFor more information\, please click here.
URL:https://new.quiltworx.com/event/quiltworx-retreat-at-creative-passions-retreat-center-2/2022-10-07/
LOCATION:MI
CATEGORIES:Desert Sky,Nancy Kloster
ORGANIZER;CN="Creative Passions Crop and Quilt Retreat Center":MAILTO:lgreenfelder@hotmail.com
END:VEVENT
BEGIN:VEVENT
DTSTART;TZID=America/Denver:20221008T190000
DTEND;TZID=America/Denver:20221012T150000
DTSTAMP:20260422T133926
CREATED:20190624T175503Z
LAST-MODIFIED:20200325T131434Z
UID:10007672-1665255600-1665586800@new.quiltworx.com
SUMMARY:Quiltworx Retreat at Creative Passions Retreat Center
DESCRIPTION:Choose your Quiltworx pattern the Desert Sky or Ripples (from the Geese Migration Book).  Both patterns are great for anyone new to Judy Niemeyer’s foundation paper piecing techniques. \nAre you familiar with Quiltworx patterns and have one in progress? You are welcome to bring that to the retreat and work on finishing. \nQuiltworx Certified Instructor Nancy Kloster is ready to help \nFor more information\, please click here.
URL:https://new.quiltworx.com/event/quiltworx-retreat-at-creative-passions-retreat-center-2/2022-10-08/
LOCATION:MI
CATEGORIES:Desert Sky,Nancy Kloster
ORGANIZER;CN="Creative Passions Crop and Quilt Retreat Center":MAILTO:lgreenfelder@hotmail.com
END:VEVENT
BEGIN:VEVENT
DTSTART;TZID=America/Denver:20221009T190000
DTEND;TZID=America/Denver:20221013T150000
DTSTAMP:20260422T133926
CREATED:20190624T175503Z
LAST-MODIFIED:20200325T131434Z
UID:10007673-1665342000-1665673200@new.quiltworx.com
SUMMARY:Quiltworx Retreat at Creative Passions Retreat Center
DESCRIPTION:Choose your Quiltworx pattern the Desert Sky or Ripples (from the Geese Migration Book).  Both patterns are great for anyone new to Judy Niemeyer’s foundation paper piecing techniques. \nAre you familiar with Quiltworx patterns and have one in progress? You are welcome to bring that to the retreat and work on finishing. \nQuiltworx Certified Instructor Nancy Kloster is ready to help \nFor more information\, please click here.
URL:https://new.quiltworx.com/event/quiltworx-retreat-at-creative-passions-retreat-center-2/2022-10-09/
LOCATION:MI
CATEGORIES:Desert Sky,Nancy Kloster
ORGANIZER;CN="Creative Passions Crop and Quilt Retreat Center":MAILTO:lgreenfelder@hotmail.com
END:VEVENT
BEGIN:VEVENT
DTSTART;TZID=America/Denver:20221009T190000
DTEND;TZID=America/Denver:20221013T150000
DTSTAMP:20260422T133926
CREATED:20210204T052259Z
LAST-MODIFIED:20220713T161051Z
UID:10006783-1665342000-1665673200@new.quiltworx.com
SUMMARY:"Anything Judy" & "Coral Reef" - 4-day Retreat at Chesaning - All Inclusive w/Sew Many Things CS
DESCRIPTION:Anything Judy Teaching Retreat – 4-day Retreat at the Chesaning Retreat Center in Chesaning MI with Certified Shop Instructors Patti Mitrowski\, Nancy Dufoor\, & Kathi Sweet \nHave a Judy Niemeyer pattern or any Technique of the Month Block you want to start or complete\, bring it and we will help you with it. \nThe Coral Reef TOM is a Brand new Technique of the Month. The quilt is beautifully designed and sews together very nicely. \nCheck out some of the samples of the new Coral Reef Technique of the Month Pictures. \nWe are also happy to help color the quilt and even cut the quilt pieces for you for an additional fee. Call the store for details. \nInterested\, click here to register. \nSew Many Things is a Judy Niemeyer Certified Shop: www.sewmanythingssc.com \n 
URL:https://new.quiltworx.com/event/anything-judy-coral-reef-4-day-retreat-for-new-technique-of-the-month-all-inclusive-with-sew-many-things-2/
LOCATION:Creative Passions Crop and Quilt Retreat Center\, 710 W. Broad St.\, Chesaning\, MI\, 48616\, United States
CATEGORIES:Coral Reef,Sew Many Things
ORGANIZER;CN="Sew Many Things Sewing Center":MAILTO:sewmanythingsle@yahoo.com
GEO:43.1863936;-84.1222799
X-APPLE-STRUCTURED-LOCATION;VALUE=URI;X-ADDRESS=Creative Passions Crop and Quilt Retreat Center 710 W. Broad St. Chesaning MI 48616 United States;X-APPLE-RADIUS=500;X-TITLE=710 W. Broad St.:geo:-84.1222799,43.1863936
END:VEVENT
BEGIN:VEVENT
DTSTART;TZID=America/Denver:20221010T100000
DTEND;TZID=America/Denver:20221010T120000
DTSTAMP:20260422T133927
CREATED:20220806T222601Z
LAST-MODIFIED:20220806T223000Z
UID:10010407-1665396000-1665403200@new.quiltworx.com
SUMMARY:Winter's Storm Star - Zoom Class Series
DESCRIPTION:You won’t find this beautiful quilt on any store shelf!  Using Judy’s Mixer options — I’ve designed this for us but it will come with all the things you’ve come to expect from a Quiltworx pattern! \n \nClasses meet on Mondays but are recorded so you can participate when it is convenient for you!  And not only the recordings\, supplemental videos and documents but my assistance will be there for you from start to finish. \nClass meets from 10:00 AM to 12:30 PM Central: \n\nMonday\, October 10 (general information session – no sewing)\nMonday\, October 31\nMonday\, November 14\nMonday\, December 15\n\nThis quilt is Quiltster Compatible — so design your own or purchase a Quiltster Design Consultation and I will help you put your colors and your fabrics exactly where you want them.  Then I’ll provide all the documentation you need to source your fabrics and integrate your fabrics with your pattern directions seemlessly. \nWant to make it bigger?  We can also do that! \nTake it to 99″ x 99″ by purchasing a Queen Expansion Pack — you have  many design options!  Email me for more information! — and we’ll discuss this in the Introductory Class. \nClass fee includes pattern as well as all instruction\, support documents and videos and access to recorded class for many months after the class concludes.
URL:https://new.quiltworx.com/event/winters-storm-star-zoom-class-series/2022-10-10/
LOCATION:MI
CATEGORIES:Kathryn Groves
ATTACH;FMTTYPE=image/jpeg:https://d90udyyio1r4.cloudfront.net/wp-content/uploads/2022/08/Winters-Storm-Star-Wall.jpg
ORGANIZER;CN="Kathryn Groves":MAILTO:kathy@bobkatquilts.com
END:VEVENT
BEGIN:VEVENT
DTSTART;TZID=America/Denver:20221010T100000
DTEND;TZID=America/Denver:20221010T153000
DTSTAMP:20260422T133927
CREATED:20190821T020906Z
LAST-MODIFIED:20191217T222045Z
UID:10008867-1665396000-1665415800@new.quiltworx.com
SUMMARY:Watermelon Placemats Workshop 1 of 2
DESCRIPTION:Awesome Watermelon Placemats! Refreshing to look at and loaded with many of Judy’s techniques. This small project will give you the opportunity to learn Floating Points\, Curved Piecing\, Bias Strips and Applique. \nTwo Workshops – Friday\,  February 21\, 2020 AND Saturday\, February 22\, 2020 \nTo visit the Ann Arbor Sewing Center Website\, please click here.
URL:https://new.quiltworx.com/event/watermelon-placemats-workshop-1-of-2/2022-10-10/
LOCATION:Ann Arbor Sewing Center\, 5235 Jackson Road\, Ann Arbor\, MI\, 48103\, United States
CATEGORIES:Nancy Kloster
ATTACH;FMTTYPE=image/jpeg:https://d90udyyio1r4.cloudfront.net/wp-content/uploads/2013/09/Watermelon-PM-Mandarin-Grove-CS.jpg
ORGANIZER;CN="Ann Arbor Sewing Center":MAILTO:Annarborsewingcenter@annarborsewing.com
GEO:42.2875554;-83.8333923
X-APPLE-STRUCTURED-LOCATION;VALUE=URI;X-ADDRESS=Ann Arbor Sewing Center 5235 Jackson Road Ann Arbor MI 48103 United States;X-APPLE-RADIUS=500;X-TITLE=5235 Jackson Road:geo:-83.8333923,42.2875554
END:VEVENT
BEGIN:VEVENT
DTSTART;TZID=America/Denver:20221010T100000
DTEND;TZID=America/Denver:20221010T153000
DTSTAMP:20260422T133927
CREATED:20190821T021417Z
LAST-MODIFIED:20191217T221915Z
UID:10010006-1665396000-1665415800@new.quiltworx.com
SUMMARY:Watermelon Placemats Workshop 2 of 2
DESCRIPTION:Awesome Watermelon Placemats! Refreshing to look at and loaded with many of Judy’s techniques. This small project will give you the opportunity to learn Floating Points\, Curved Piecing\, Bias Strips and Applique. \nTwo Workshops – Friday\, February 21\, 2020 AND Saturday\, February 22\, 2020 \nTo visit the Ann Arbor Sewing Center website\, please click here.
URL:https://new.quiltworx.com/event/watermelon-placemats-workshop-2-of-2/2022-10-10/
LOCATION:Ann Arbor Sewing Center\, 5235 Jackson Road\, Ann Arbor\, MI\, 48103\, United States
CATEGORIES:Nancy Kloster
ATTACH;FMTTYPE=image/jpeg:https://d90udyyio1r4.cloudfront.net/wp-content/uploads/2019/03/Watermelon-Placemats-MG-1Pg-KS-3-21-19.jpg
ORGANIZER;CN="Ann Arbor Sewing Center":MAILTO:Annarborsewingcenter@annarborsewing.com
GEO:42.2875554;-83.8333923
X-APPLE-STRUCTURED-LOCATION;VALUE=URI;X-ADDRESS=Ann Arbor Sewing Center 5235 Jackson Road Ann Arbor MI 48103 United States;X-APPLE-RADIUS=500;X-TITLE=5235 Jackson Road:geo:-83.8333923,42.2875554
END:VEVENT
BEGIN:VEVENT
DTSTART;TZID=America/Denver:20221010T103000
DTEND;TZID=America/Denver:20221010T153000
DTSTAMP:20260422T133927
CREATED:20220517T121922Z
LAST-MODIFIED:20220517T121922Z
UID:10003320-1665397800-1665415800@new.quiltworx.com
SUMMARY:Prism Table Runner Workshop 1 of 2 w/CI Nancy Kloster
DESCRIPTION:Prism Table Runner: The Prism Table Runner is a design inspired by the Prismatic Star block. In this workshop\, you will learn foundation paper strip piecing techniques for lone star diamonds and also striped borders along with the use of cutting templates\, smart corners\, and TRP lines. Size 22 x 65 \nDate: Monday\, October 10 and 24\, 2022 \nTime: 10:30 am -3:30 pm\nInstructor: Special Guest\, Nancy Kloster\, a certified Judy Niemeyer Quiltworx teacher \n\nhttp://www.annarborsewing.com/ \n\n\n\n\n\n\n  \n 
URL:https://new.quiltworx.com/event/prism-table-runner-workshop-1-of-2-w-ci-nancy-kloster/
LOCATION:Ann Arbor Sewing Center\, 5235 Jackson Road\, Ann Arbor\, MI\, 48103\, United States
CATEGORIES:Nancy Kloster,Prism Table Runner
ATTACH;FMTTYPE=image/jpeg:https://d90udyyio1r4.cloudfront.net/wp-content/uploads/2020/12/Prism-Table-Runner-Mini-Collections.jpg
ORGANIZER;CN="Ann Arbor Sewing Center":MAILTO:Annarborsewingcenter@annarborsewing.com
GEO:42.2875554;-83.8333923
X-APPLE-STRUCTURED-LOCATION;VALUE=URI;X-ADDRESS=Ann Arbor Sewing Center 5235 Jackson Road Ann Arbor MI 48103 United States;X-APPLE-RADIUS=500;X-TITLE=5235 Jackson Road:geo:-83.8333923,42.2875554
END:VEVENT
BEGIN:VEVENT
DTSTART;TZID=America/Denver:20221010T190000
DTEND;TZID=America/Denver:20221014T150000
DTSTAMP:20260422T133927
CREATED:20190624T175503Z
LAST-MODIFIED:20200325T131434Z
UID:10007674-1665428400-1665759600@new.quiltworx.com
SUMMARY:Quiltworx Retreat at Creative Passions Retreat Center
DESCRIPTION:Choose your Quiltworx pattern the Desert Sky or Ripples (from the Geese Migration Book).  Both patterns are great for anyone new to Judy Niemeyer’s foundation paper piecing techniques. \nAre you familiar with Quiltworx patterns and have one in progress? You are welcome to bring that to the retreat and work on finishing. \nQuiltworx Certified Instructor Nancy Kloster is ready to help \nFor more information\, please click here.
URL:https://new.quiltworx.com/event/quiltworx-retreat-at-creative-passions-retreat-center-2/2022-10-10/
LOCATION:MI
CATEGORIES:Desert Sky,Nancy Kloster
ORGANIZER;CN="Creative Passions Crop and Quilt Retreat Center":MAILTO:lgreenfelder@hotmail.com
END:VEVENT
END:VCALENDAR