BEGIN:VCALENDAR
VERSION:2.0
PRODID:-//Quiltworx.com - ECPv6.3.4//NONSGML v1.0//EN
CALSCALE:GREGORIAN
METHOD:PUBLISH
X-ORIGINAL-URL:https://new.quiltworx.com
X-WR-CALDESC:Events for Quiltworx.com
REFRESH-INTERVAL;VALUE=DURATION:PT1H
X-Robots-Tag:noindex
X-PUBLISHED-TTL:PT1H
BEGIN:VTIMEZONE
TZID:America/Denver
BEGIN:DAYLIGHT
TZOFFSETFROM:-0700
TZOFFSETTO:-0600
TZNAME:MDT
DTSTART:20220313T090000
END:DAYLIGHT
BEGIN:STANDARD
TZOFFSETFROM:-0600
TZOFFSETTO:-0700
TZNAME:MST
DTSTART:20221106T080000
END:STANDARD
TZID:America/Chicago
BEGIN:DAYLIGHT
TZOFFSETFROM:-0600
TZOFFSETTO:-0500
TZNAME:CDT
DTSTART:20220313T080000
END:DAYLIGHT
BEGIN:STANDARD
TZOFFSETFROM:-0500
TZOFFSETTO:-0600
TZNAME:CST
DTSTART:20221106T070000
END:STANDARD
END:VTIMEZONE
BEGIN:VEVENT
DTSTART;TZID=America/Denver:20220501T090000
DTEND;TZID=America/Denver:20221023T150000
DTSTAMP:20260423T054122
CREATED:20220105T174950Z
LAST-MODIFIED:20220105T174950Z
UID:10010335-1651395600-1666537200@new.quiltworx.com
SUMMARY:Quiltworx Technique Quilt
DESCRIPTION:Did you miss the class? This is your chance to do one of the Quiltworx technique quilts. Paradise in Bloom (3 only)\, Vintage Rose\, Dinner Plate Dahlia\, or Corel Reef are your choices.
URL:https://new.quiltworx.com/event/quiltworx-technique-quilt/2022-05-01/
LOCATION:Sharon’s Attic Quilt Shop\, 2950 SE Cornelius Pass Rd\, Hillsboro\, OR\, 97123\, United States
CATEGORIES:Carol Hattan,Coral Reef,Dinner Plate Dahlia,Vintage Rose
ORGANIZER;CN="Sharon Rice":MAILTO:quilter5427@hotmail.com
GEO:45.4985096;-122.9015758
X-APPLE-STRUCTURED-LOCATION;VALUE=URI;X-ADDRESS=Sharon’s Attic Quilt Shop 2950 SE Cornelius Pass Rd Hillsboro OR 97123 United States;X-APPLE-RADIUS=500;X-TITLE=2950 SE Cornelius Pass Rd:geo:-122.9015758,45.4985096
END:VEVENT
BEGIN:VEVENT
DTSTART;TZID=America/Denver:20220514T103000
DTEND;TZID=America/Denver:20221008T153000
DTSTAMP:20260423T054123
CREATED:20220105T172511Z
LAST-MODIFIED:20220105T174045Z
UID:10010322-1652524200-1665243000@new.quiltworx.com
SUMMARY:Vintage Rose or Dinner Plate Dalhia
DESCRIPTION:Beginning in February join us for the construction of your choice of Dinner Plate Dahlia or Vintage Rose. Plan to meet with Carol ahead of time if you need help in selecting fabrics or designing your quilt with Quilster.
URL:https://new.quiltworx.com/event/vintage-rose-or-dinner-plate-dalhia/2022-05-14/
LOCATION:Cedar Ridge\, 19045 S Beavercreek Rd.\, Oregon City\, OR\, 97045\, United States
CATEGORIES:Carol Hattan,Coral Reef,Dinner Plate Dahlia,Vintage Rose
GEO:45.3292522;-122.5719057
X-APPLE-STRUCTURED-LOCATION;VALUE=URI;X-ADDRESS=Cedar Ridge 19045 S Beavercreek Rd. Oregon City OR 97045 United States;X-APPLE-RADIUS=500;X-TITLE=19045 S Beavercreek Rd.:geo:-122.5719057,45.3292522
END:VEVENT
BEGIN:VEVENT
DTSTART;TZID=America/Denver:20220521T100000
DTEND;TZID=America/Denver:20221015T150000
DTSTAMP:20260423T054123
CREATED:20220105T173711Z
LAST-MODIFIED:20220105T173711Z
UID:10010328-1653127200-1665846000@new.quiltworx.com
SUMMARY:Coral Reef or Dinner Plate Dalhia
DESCRIPTION:For the first time I will be offering a technique class in Vancouver. Join me at the new Just For Fun Quilting shop and make a beautiful quilt while learning the Quiltworx technique for foundation piecing. If possible meet with me ahead of time for pattern purchases\, help in color planning of your quilt from pattern or with the help of Quiltster.
URL:https://new.quiltworx.com/event/coral-reef-or-dinner-plate-dalhia/2022-05-21/
LOCATION:Just for Fun Quilting\, 2503 NE 78th #12\, Vancouver\, WA\, 98661\, United States
CATEGORIES:Carol Hattan,Coral Reef,Dinner Plate Dahlia
GEO:45.6781603;-122.6460756
X-APPLE-STRUCTURED-LOCATION;VALUE=URI;X-ADDRESS=Just for Fun Quilting 2503 NE 78th #12 Vancouver WA 98661 United States;X-APPLE-RADIUS=500;X-TITLE=2503 NE 78th #12:geo:-122.6460756,45.6781603
END:VEVENT
BEGIN:VEVENT
DTSTART;TZID=America/Denver:20220605T090000
DTEND;TZID=America/Denver:20221127T140000
DTSTAMP:20260423T054123
CREATED:20220105T174950Z
LAST-MODIFIED:20220105T174950Z
UID:10010336-1654419600-1669557600@new.quiltworx.com
SUMMARY:Quiltworx Technique Quilt
DESCRIPTION:Did you miss the class? This is your chance to do one of the Quiltworx technique quilts. Paradise in Bloom (3 only)\, Vintage Rose\, Dinner Plate Dahlia\, or Corel Reef are your choices.
URL:https://new.quiltworx.com/event/quiltworx-technique-quilt/2022-06-05/
LOCATION:Sharon’s Attic Quilt Shop\, 2950 SE Cornelius Pass Rd\, Hillsboro\, OR\, 97123\, United States
CATEGORIES:Carol Hattan,Coral Reef,Dinner Plate Dahlia,Vintage Rose
ORGANIZER;CN="Sharon Rice":MAILTO:quilter5427@hotmail.com
GEO:45.4985096;-122.9015758
X-APPLE-STRUCTURED-LOCATION;VALUE=URI;X-ADDRESS=Sharon’s Attic Quilt Shop 2950 SE Cornelius Pass Rd Hillsboro OR 97123 United States;X-APPLE-RADIUS=500;X-TITLE=2950 SE Cornelius Pass Rd:geo:-122.9015758,45.4985096
END:VEVENT
BEGIN:VEVENT
DTSTART;TZID=America/Denver:20220611T103000
DTEND;TZID=America/Denver:20221105T153000
DTSTAMP:20260423T054123
CREATED:20220105T172511Z
LAST-MODIFIED:20220105T174045Z
UID:10010323-1654943400-1667662200@new.quiltworx.com
SUMMARY:Vintage Rose or Dinner Plate Dalhia
DESCRIPTION:Beginning in February join us for the construction of your choice of Dinner Plate Dahlia or Vintage Rose. Plan to meet with Carol ahead of time if you need help in selecting fabrics or designing your quilt with Quilster.
URL:https://new.quiltworx.com/event/vintage-rose-or-dinner-plate-dalhia/2022-06-11/
LOCATION:Cedar Ridge\, 19045 S Beavercreek Rd.\, Oregon City\, OR\, 97045\, United States
CATEGORIES:Carol Hattan,Coral Reef,Dinner Plate Dahlia,Vintage Rose
GEO:45.3292522;-122.5719057
X-APPLE-STRUCTURED-LOCATION;VALUE=URI;X-ADDRESS=Cedar Ridge 19045 S Beavercreek Rd. Oregon City OR 97045 United States;X-APPLE-RADIUS=500;X-TITLE=19045 S Beavercreek Rd.:geo:-122.5719057,45.3292522
END:VEVENT
BEGIN:VEVENT
DTSTART;TZID=America/Denver:20220618T100000
DTEND;TZID=America/Denver:20221112T140000
DTSTAMP:20260423T054123
CREATED:20220105T173711Z
LAST-MODIFIED:20220105T173711Z
UID:10010329-1655546400-1668261600@new.quiltworx.com
SUMMARY:Coral Reef or Dinner Plate Dalhia
DESCRIPTION:For the first time I will be offering a technique class in Vancouver. Join me at the new Just For Fun Quilting shop and make a beautiful quilt while learning the Quiltworx technique for foundation piecing. If possible meet with me ahead of time for pattern purchases\, help in color planning of your quilt from pattern or with the help of Quiltster.
URL:https://new.quiltworx.com/event/coral-reef-or-dinner-plate-dalhia/2022-06-18/
LOCATION:Just for Fun Quilting\, 2503 NE 78th #12\, Vancouver\, WA\, 98661\, United States
CATEGORIES:Carol Hattan,Coral Reef,Dinner Plate Dahlia
GEO:45.6781603;-122.6460756
X-APPLE-STRUCTURED-LOCATION;VALUE=URI;X-ADDRESS=Just for Fun Quilting 2503 NE 78th #12 Vancouver WA 98661 United States;X-APPLE-RADIUS=500;X-TITLE=2503 NE 78th #12:geo:-122.6460756,45.6781603
END:VEVENT
BEGIN:VEVENT
DTSTART;TZID=America/Denver:20220703T090000
DTEND;TZID=America/Denver:20221225T140000
DTSTAMP:20260423T054123
CREATED:20220105T174950Z
LAST-MODIFIED:20220105T174950Z
UID:10010337-1656838800-1671976800@new.quiltworx.com
SUMMARY:Quiltworx Technique Quilt
DESCRIPTION:Did you miss the class? This is your chance to do one of the Quiltworx technique quilts. Paradise in Bloom (3 only)\, Vintage Rose\, Dinner Plate Dahlia\, or Corel Reef are your choices.
URL:https://new.quiltworx.com/event/quiltworx-technique-quilt/2022-07-03/
LOCATION:Sharon’s Attic Quilt Shop\, 2950 SE Cornelius Pass Rd\, Hillsboro\, OR\, 97123\, United States
CATEGORIES:Carol Hattan,Coral Reef,Dinner Plate Dahlia,Vintage Rose
ORGANIZER;CN="Sharon Rice":MAILTO:quilter5427@hotmail.com
GEO:45.4985096;-122.9015758
X-APPLE-STRUCTURED-LOCATION;VALUE=URI;X-ADDRESS=Sharon’s Attic Quilt Shop 2950 SE Cornelius Pass Rd Hillsboro OR 97123 United States;X-APPLE-RADIUS=500;X-TITLE=2950 SE Cornelius Pass Rd:geo:-122.9015758,45.4985096
END:VEVENT
BEGIN:VEVENT
DTSTART;TZID=America/Denver:20220709T103000
DTEND;TZID=America/Denver:20221203T143000
DTSTAMP:20260423T054123
CREATED:20220105T172511Z
LAST-MODIFIED:20220105T174045Z
UID:10010324-1657362600-1670077800@new.quiltworx.com
SUMMARY:Vintage Rose or Dinner Plate Dalhia
DESCRIPTION:Beginning in February join us for the construction of your choice of Dinner Plate Dahlia or Vintage Rose. Plan to meet with Carol ahead of time if you need help in selecting fabrics or designing your quilt with Quilster.
URL:https://new.quiltworx.com/event/vintage-rose-or-dinner-plate-dalhia/2022-07-09/
LOCATION:Cedar Ridge\, 19045 S Beavercreek Rd.\, Oregon City\, OR\, 97045\, United States
CATEGORIES:Carol Hattan,Coral Reef,Dinner Plate Dahlia,Vintage Rose
GEO:45.3292522;-122.5719057
X-APPLE-STRUCTURED-LOCATION;VALUE=URI;X-ADDRESS=Cedar Ridge 19045 S Beavercreek Rd. Oregon City OR 97045 United States;X-APPLE-RADIUS=500;X-TITLE=19045 S Beavercreek Rd.:geo:-122.5719057,45.3292522
END:VEVENT
BEGIN:VEVENT
DTSTART;TZID=America/Denver:20220716T100000
DTEND;TZID=America/Denver:20221210T140000
DTSTAMP:20260423T054123
CREATED:20220105T173711Z
LAST-MODIFIED:20220105T173711Z
UID:10010330-1657965600-1670680800@new.quiltworx.com
SUMMARY:Coral Reef or Dinner Plate Dalhia
DESCRIPTION:For the first time I will be offering a technique class in Vancouver. Join me at the new Just For Fun Quilting shop and make a beautiful quilt while learning the Quiltworx technique for foundation piecing. If possible meet with me ahead of time for pattern purchases\, help in color planning of your quilt from pattern or with the help of Quiltster.
URL:https://new.quiltworx.com/event/coral-reef-or-dinner-plate-dalhia/2022-07-16/
LOCATION:Just for Fun Quilting\, 2503 NE 78th #12\, Vancouver\, WA\, 98661\, United States
CATEGORIES:Carol Hattan,Coral Reef,Dinner Plate Dahlia
GEO:45.6781603;-122.6460756
X-APPLE-STRUCTURED-LOCATION;VALUE=URI;X-ADDRESS=Just for Fun Quilting 2503 NE 78th #12 Vancouver WA 98661 United States;X-APPLE-RADIUS=500;X-TITLE=2503 NE 78th #12:geo:-122.6460756,45.6781603
END:VEVENT
BEGIN:VEVENT
DTSTART;TZID=America/Denver:20220927T090000
DTEND;TZID=America/Denver:20221001T170000
DTSTAMP:20260423T054123
CREATED:20220905T160244Z
LAST-MODIFIED:20220905T160244Z
UID:10001273-1664269200-1664643600@new.quiltworx.com
SUMMARY:Christmas Cactus or BYO Quiltworx project - 5 day day-treat
DESCRIPTION:Get ready for the holidays with this 5-day\, daytime retreat while you make the gorgeous 80″x80″ Christmas Cactus quilt by Quiltworx/Judy Niemeyer OR BRING YOUR OWN QUILTWORX PROJECT. \nJoin Certified Instructor Carin Brimley and learn techniques\, tips\, and tricks the Quiltworx way. This fun project is for the confident beginner. Because there are so many ways to color this quilt\, a free 90-minute zoom coloring consultation with Carin is available using the Quiltster program. You’ll get info on fabric requirements when you have your color consult with Carin. \nCost $225 \nPattern available for purchase at Quilting Mayhem. \n20% off supplies (excluding pattern) for class. \nWe’ll play games and have prizes and demos. And lots of fun! \nFri\, Sep 23\, 2022 at 9:00 am to 5:00 pm\nSat\, Sep 24\, 2022 at 9:00 am to 5:00 pm\nSun\, Sep 25\, 2022 at 9:00 am to 5:00 pm\nMon\, Sep 26\, 2022 at 9:00 am to 5:00 pm\nTue\, Sep 27\, 2022 at 9:00 am to 5:00 pm \n(Remember\, this is a daytime only retreat…there are no sleeping accommodations at the Quilting Mayhem shop.) \n(Of note\, on Sunday Carin will arrive at 1 pm rather than 9 am.)
URL:https://new.quiltworx.com/event/christmas-cactus-or-byo-quiltworx-project-5-day-day-treat/2022-09-27/
LOCATION:Quilting Mayhem\, 1011 Second Street\, Snohoimish\, WA\, 98290\, United States
CATEGORIES:Carin Brimley
GEO:47.9125459;-122.0950301
X-APPLE-STRUCTURED-LOCATION;VALUE=URI;X-ADDRESS=Quilting Mayhem 1011 Second Street Snohoimish WA 98290 United States;X-APPLE-RADIUS=500;X-TITLE=1011 Second Street:geo:-122.0950301,47.9125459
END:VEVENT
BEGIN:VEVENT
DTSTART;TZID=America/Denver:20220927T190000
DTEND;TZID=America/Denver:20221001T150000
DTSTAMP:20260423T054123
CREATED:20190624T175503Z
LAST-MODIFIED:20200325T131434Z
UID:10007661-1664305200-1664636400@new.quiltworx.com
SUMMARY:Quiltworx Retreat at Creative Passions Retreat Center
DESCRIPTION:Choose your Quiltworx pattern the Desert Sky or Ripples (from the Geese Migration Book).  Both patterns are great for anyone new to Judy Niemeyer’s foundation paper piecing techniques. \nAre you familiar with Quiltworx patterns and have one in progress? You are welcome to bring that to the retreat and work on finishing. \nQuiltworx Certified Instructor Nancy Kloster is ready to help \nFor more information\, please click here.
URL:https://new.quiltworx.com/event/quiltworx-retreat-at-creative-passions-retreat-center-2/2022-09-27/
LOCATION:MI
CATEGORIES:Desert Sky,Nancy Kloster
ORGANIZER;CN="Creative Passions Crop and Quilt Retreat Center":MAILTO:lgreenfelder@hotmail.com
END:VEVENT
BEGIN:VEVENT
DTSTART;TZID=America/Denver:20220928T090000
DTEND;TZID=America/Denver:20221002T170000
DTSTAMP:20260423T054123
CREATED:20220905T160244Z
LAST-MODIFIED:20220905T160244Z
UID:10001274-1664355600-1664730000@new.quiltworx.com
SUMMARY:Christmas Cactus or BYO Quiltworx project - 5 day day-treat
DESCRIPTION:Get ready for the holidays with this 5-day\, daytime retreat while you make the gorgeous 80″x80″ Christmas Cactus quilt by Quiltworx/Judy Niemeyer OR BRING YOUR OWN QUILTWORX PROJECT. \nJoin Certified Instructor Carin Brimley and learn techniques\, tips\, and tricks the Quiltworx way. This fun project is for the confident beginner. Because there are so many ways to color this quilt\, a free 90-minute zoom coloring consultation with Carin is available using the Quiltster program. You’ll get info on fabric requirements when you have your color consult with Carin. \nCost $225 \nPattern available for purchase at Quilting Mayhem. \n20% off supplies (excluding pattern) for class. \nWe’ll play games and have prizes and demos. And lots of fun! \nFri\, Sep 23\, 2022 at 9:00 am to 5:00 pm\nSat\, Sep 24\, 2022 at 9:00 am to 5:00 pm\nSun\, Sep 25\, 2022 at 9:00 am to 5:00 pm\nMon\, Sep 26\, 2022 at 9:00 am to 5:00 pm\nTue\, Sep 27\, 2022 at 9:00 am to 5:00 pm \n(Remember\, this is a daytime only retreat…there are no sleeping accommodations at the Quilting Mayhem shop.) \n(Of note\, on Sunday Carin will arrive at 1 pm rather than 9 am.)
URL:https://new.quiltworx.com/event/christmas-cactus-or-byo-quiltworx-project-5-day-day-treat/2022-09-28/
LOCATION:Quilting Mayhem\, 1011 Second Street\, Snohoimish\, WA\, 98290\, United States
CATEGORIES:Carin Brimley
GEO:47.9125459;-122.0950301
X-APPLE-STRUCTURED-LOCATION;VALUE=URI;X-ADDRESS=Quilting Mayhem 1011 Second Street Snohoimish WA 98290 United States;X-APPLE-RADIUS=500;X-TITLE=1011 Second Street:geo:-122.0950301,47.9125459
END:VEVENT
BEGIN:VEVENT
DTSTART;TZID=America/Denver:20220928T190000
DTEND;TZID=America/Denver:20221002T150000
DTSTAMP:20260423T054123
CREATED:20190624T175503Z
LAST-MODIFIED:20200325T131434Z
UID:10007662-1664391600-1664722800@new.quiltworx.com
SUMMARY:Quiltworx Retreat at Creative Passions Retreat Center
DESCRIPTION:Choose your Quiltworx pattern the Desert Sky or Ripples (from the Geese Migration Book).  Both patterns are great for anyone new to Judy Niemeyer’s foundation paper piecing techniques. \nAre you familiar with Quiltworx patterns and have one in progress? You are welcome to bring that to the retreat and work on finishing. \nQuiltworx Certified Instructor Nancy Kloster is ready to help \nFor more information\, please click here.
URL:https://new.quiltworx.com/event/quiltworx-retreat-at-creative-passions-retreat-center-2/2022-09-28/
LOCATION:MI
CATEGORIES:Desert Sky,Nancy Kloster
ORGANIZER;CN="Creative Passions Crop and Quilt Retreat Center":MAILTO:lgreenfelder@hotmail.com
END:VEVENT
BEGIN:VEVENT
DTSTART;TZID=America/Denver:20220929T190000
DTEND;TZID=America/Denver:20221003T150000
DTSTAMP:20260423T054123
CREATED:20190624T175503Z
LAST-MODIFIED:20200325T131434Z
UID:10007663-1664478000-1664809200@new.quiltworx.com
SUMMARY:Quiltworx Retreat at Creative Passions Retreat Center
DESCRIPTION:Choose your Quiltworx pattern the Desert Sky or Ripples (from the Geese Migration Book).  Both patterns are great for anyone new to Judy Niemeyer’s foundation paper piecing techniques. \nAre you familiar with Quiltworx patterns and have one in progress? You are welcome to bring that to the retreat and work on finishing. \nQuiltworx Certified Instructor Nancy Kloster is ready to help \nFor more information\, please click here.
URL:https://new.quiltworx.com/event/quiltworx-retreat-at-creative-passions-retreat-center-2/2022-09-29/
LOCATION:MI
CATEGORIES:Desert Sky,Nancy Kloster
ORGANIZER;CN="Creative Passions Crop and Quilt Retreat Center":MAILTO:lgreenfelder@hotmail.com
END:VEVENT
BEGIN:VEVENT
DTSTART;TZID=America/Denver:20220930T190000
DTEND;TZID=America/Denver:20221004T150000
DTSTAMP:20260423T054124
CREATED:20190624T175503Z
LAST-MODIFIED:20200325T131434Z
UID:10007664-1664564400-1664895600@new.quiltworx.com
SUMMARY:Quiltworx Retreat at Creative Passions Retreat Center
DESCRIPTION:Choose your Quiltworx pattern the Desert Sky or Ripples (from the Geese Migration Book).  Both patterns are great for anyone new to Judy Niemeyer’s foundation paper piecing techniques. \nAre you familiar with Quiltworx patterns and have one in progress? You are welcome to bring that to the retreat and work on finishing. \nQuiltworx Certified Instructor Nancy Kloster is ready to help \nFor more information\, please click here.
URL:https://new.quiltworx.com/event/quiltworx-retreat-at-creative-passions-retreat-center-2/2022-09-30/
LOCATION:MI
CATEGORIES:Desert Sky,Nancy Kloster
ORGANIZER;CN="Creative Passions Crop and Quilt Retreat Center":MAILTO:lgreenfelder@hotmail.com
END:VEVENT
BEGIN:VEVENT
DTSTART;TZID=America/Denver:20221001T090000
DTEND;TZID=America/Denver:20221001T170000
DTSTAMP:20260423T054124
CREATED:20220803T061511Z
LAST-MODIFIED:20220803T061850Z
UID:10010391-1664614800-1664643600@new.quiltworx.com
SUMMARY:Prism Table Runner Class - Michigan Fiber Arts Quilt Show
DESCRIPTION:Class sponsored by Sew Many Things at the Michigan Fiber Arts Show\, Port Huron Convention Center\, Port Huron Michigan. \nRegister: https://www.michiganfiberartsandquiltersconvention.com/classes/prism-table-runner-a-judy-niemeyer-pattern-saturday-october-1-2022-9am-with-patti-mitrowski \n \nPrism Table Runner by Quiltworx – A Judy Niemeyer Pattern \nThe Prism Table Runner is a design inspired by an idea by Certified Instructor\, Joanne Wearing\, hoping for a table runner workshop that utilized the Prismatic Star block\, which would be available for a one-day workshop. This pattern is the result. If this is the first time you’ve done a Quiltworx pattern\, you will learn foundation paper strip piecing techniques for lone star diamonds and also striped borders along with the use of cutting templates\, smart corners\, and TRP lines. The table runner finishes at 22″ x 65″ \nChoose: Christmas Cactus\, Evergreen\, or your own combination of colors. We will color it for you. The pattern is also available in Quiltster if you would like to color your own.
URL:https://new.quiltworx.com/event/prism-table-runner-class-michigan-fiber-arts-quilt-show/
LOCATION:MI
CATEGORIES:Prism Table Runner
ORGANIZER;CN="Sew Many Things Sewing Center":MAILTO:sewmanythingsle@yahoo.com
END:VEVENT
BEGIN:VEVENT
DTSTART;TZID=America/Chicago:20221001T093000
DTEND;TZID=America/Chicago:20221001T163000
DTSTAMP:20260423T054124
CREATED:20220219T210326Z
LAST-MODIFIED:20220219T210326Z
UID:10005253-1664616600-1664641800@new.quiltworx.com
SUMMARY:Poinsettia Cutting Class\, Quilters Cottage\, Kearney\, NE\, October 1\, 2022
DESCRIPTION:
URL:https://new.quiltworx.com/event/poinsettia-cutting-class-quilters-cottage-kearney-ne-october-1-2022/
LOCATION:Quilter’s Cottage\, 5915 2nd Ave.\, Kearney\, NE\, 68847\, United States
CATEGORIES:Connie Lange,Poinsettia
GEO:40.7321412;-99.0833788
X-APPLE-STRUCTURED-LOCATION;VALUE=URI;X-ADDRESS=Quilter’s Cottage 5915 2nd Ave. Kearney NE 68847 United States;X-APPLE-RADIUS=500;X-TITLE=5915 2nd Ave.:geo:-99.0833788,40.7321412
END:VEVENT
BEGIN:VEVENT
DTSTART;TZID=America/Denver:20221001T100000
DTEND;TZID=America/Denver:20221001T153000
DTSTAMP:20260423T054124
CREATED:20190821T020906Z
LAST-MODIFIED:20191217T222045Z
UID:10008858-1664618400-1664638200@new.quiltworx.com
SUMMARY:Watermelon Placemats Workshop 1 of 2
DESCRIPTION:Awesome Watermelon Placemats! Refreshing to look at and loaded with many of Judy’s techniques. This small project will give you the opportunity to learn Floating Points\, Curved Piecing\, Bias Strips and Applique. \nTwo Workshops – Friday\,  February 21\, 2020 AND Saturday\, February 22\, 2020 \nTo visit the Ann Arbor Sewing Center Website\, please click here.
URL:https://new.quiltworx.com/event/watermelon-placemats-workshop-1-of-2/2022-10-01/
LOCATION:Ann Arbor Sewing Center\, 5235 Jackson Road\, Ann Arbor\, MI\, 48103\, United States
CATEGORIES:Nancy Kloster
ATTACH;FMTTYPE=image/jpeg:https://d90udyyio1r4.cloudfront.net/wp-content/uploads/2013/09/Watermelon-PM-Mandarin-Grove-CS.jpg
ORGANIZER;CN="Ann Arbor Sewing Center":MAILTO:Annarborsewingcenter@annarborsewing.com
GEO:42.2875554;-83.8333923
X-APPLE-STRUCTURED-LOCATION;VALUE=URI;X-ADDRESS=Ann Arbor Sewing Center 5235 Jackson Road Ann Arbor MI 48103 United States;X-APPLE-RADIUS=500;X-TITLE=5235 Jackson Road:geo:-83.8333923,42.2875554
END:VEVENT
BEGIN:VEVENT
DTSTART;TZID=America/Denver:20221001T100000
DTEND;TZID=America/Denver:20221001T153000
DTSTAMP:20260423T054124
CREATED:20190821T021417Z
LAST-MODIFIED:20191217T221915Z
UID:10009997-1664618400-1664638200@new.quiltworx.com
SUMMARY:Watermelon Placemats Workshop 2 of 2
DESCRIPTION:Awesome Watermelon Placemats! Refreshing to look at and loaded with many of Judy’s techniques. This small project will give you the opportunity to learn Floating Points\, Curved Piecing\, Bias Strips and Applique. \nTwo Workshops – Friday\, February 21\, 2020 AND Saturday\, February 22\, 2020 \nTo visit the Ann Arbor Sewing Center website\, please click here.
URL:https://new.quiltworx.com/event/watermelon-placemats-workshop-2-of-2/2022-10-01/
LOCATION:Ann Arbor Sewing Center\, 5235 Jackson Road\, Ann Arbor\, MI\, 48103\, United States
CATEGORIES:Nancy Kloster
ATTACH;FMTTYPE=image/jpeg:https://d90udyyio1r4.cloudfront.net/wp-content/uploads/2019/03/Watermelon-Placemats-MG-1Pg-KS-3-21-19.jpg
ORGANIZER;CN="Ann Arbor Sewing Center":MAILTO:Annarborsewingcenter@annarborsewing.com
GEO:42.2875554;-83.8333923
X-APPLE-STRUCTURED-LOCATION;VALUE=URI;X-ADDRESS=Ann Arbor Sewing Center 5235 Jackson Road Ann Arbor MI 48103 United States;X-APPLE-RADIUS=500;X-TITLE=5235 Jackson Road:geo:-83.8333923,42.2875554
END:VEVENT
BEGIN:VEVENT
DTSTART;TZID=America/Denver:20221001T190000
DTEND;TZID=America/Denver:20221005T150000
DTSTAMP:20260423T054124
CREATED:20190624T175503Z
LAST-MODIFIED:20200325T131434Z
UID:10007665-1664650800-1664982000@new.quiltworx.com
SUMMARY:Quiltworx Retreat at Creative Passions Retreat Center
DESCRIPTION:Choose your Quiltworx pattern the Desert Sky or Ripples (from the Geese Migration Book).  Both patterns are great for anyone new to Judy Niemeyer’s foundation paper piecing techniques. \nAre you familiar with Quiltworx patterns and have one in progress? You are welcome to bring that to the retreat and work on finishing. \nQuiltworx Certified Instructor Nancy Kloster is ready to help \nFor more information\, please click here.
URL:https://new.quiltworx.com/event/quiltworx-retreat-at-creative-passions-retreat-center-2/2022-10-01/
LOCATION:MI
CATEGORIES:Desert Sky,Nancy Kloster
ORGANIZER;CN="Creative Passions Crop and Quilt Retreat Center":MAILTO:lgreenfelder@hotmail.com
END:VEVENT
END:VCALENDAR