BEGIN:VCALENDAR
VERSION:2.0
PRODID:-//Quiltworx.com - ECPv6.3.4//NONSGML v1.0//EN
CALSCALE:GREGORIAN
METHOD:PUBLISH
X-WR-CALNAME:Quiltworx.com
X-ORIGINAL-URL:https://new.quiltworx.com
X-WR-CALDESC:Events for Quiltworx.com
REFRESH-INTERVAL;VALUE=DURATION:PT1H
X-Robots-Tag:noindex
X-PUBLISHED-TTL:PT1H
BEGIN:VTIMEZONE
TZID:America/Los_Angeles
BEGIN:DAYLIGHT
TZOFFSETFROM:-0800
TZOFFSETTO:-0700
TZNAME:PDT
DTSTART:20220313T100000
END:DAYLIGHT
BEGIN:STANDARD
TZOFFSETFROM:-0700
TZOFFSETTO:-0800
TZNAME:PST
DTSTART:20221106T090000
END:STANDARD
END:VTIMEZONE
BEGIN:VEVENT
DTSTART;TZID=America/Los_Angeles:20220920T100000
DTEND;TZID=America/Los_Angeles:20220920T160000
DTSTAMP:20260424T032431
CREATED:20230426T152323Z
LAST-MODIFIED:20230430T165717Z
UID:109113-1663668000-1663689600@new.quiltworx.com
SUMMARY:Sandstone Spires Quilt Day 2of2
DESCRIPTION:We will create this beautiful Wall/Throw size quilt 68 x 68 in a two day workshop. Come Join in the fun. A Great beginner foundation paper piecing project.
URL:https://new.quiltworx.com/event/sandstone-spires-quilt-day-2of2/
LOCATION:Aloha Sewing & Vacuum Center\, 7550 E Main St\, Hillsboro\, OR\, 97123\, United States
CATEGORIES:Sandstone Spires
ATTACH;FMTTYPE=image/jpeg:https://d90udyyio1r4.cloudfront.net/wp-content/uploads/2023/04/JudyQBlock_Sandstone-Spires-4-scaled.jpg
GEO:45.5150691;-122.9020693
X-APPLE-STRUCTURED-LOCATION;VALUE=URI;X-ADDRESS=Aloha Sewing & Vacuum Center 7550 E Main St Hillsboro OR 97123 United States;X-APPLE-RADIUS=500;X-TITLE=7550 E Main St:geo:-122.9020693,45.5150691
END:VEVENT
END:VCALENDAR