BEGIN:VCALENDAR
VERSION:2.0
PRODID:-//Quiltworx.com - ECPv6.3.4//NONSGML v1.0//EN
CALSCALE:GREGORIAN
METHOD:PUBLISH
X-WR-CALNAME:Quiltworx.com
X-ORIGINAL-URL:https://new.quiltworx.com
X-WR-CALDESC:Events for Quiltworx.com
REFRESH-INTERVAL;VALUE=DURATION:PT1H
X-Robots-Tag:noindex
X-PUBLISHED-TTL:PT1H
BEGIN:VTIMEZONE
TZID:America/Denver
BEGIN:DAYLIGHT
TZOFFSETFROM:-0700
TZOFFSETTO:-0600
TZNAME:MDT
DTSTART:20220313T090000
END:DAYLIGHT
BEGIN:STANDARD
TZOFFSETFROM:-0600
TZOFFSETTO:-0700
TZNAME:MST
DTSTART:20221106T080000
END:STANDARD
END:VTIMEZONE
BEGIN:VEVENT
DTSTART;TZID=America/Denver:20220911T190000
DTEND;TZID=America/Denver:20220915T140000
DTSTAMP:20260424T162835
CREATED:20210824T175201Z
LAST-MODIFIED:20210824T175201Z
UID:101533-1662922800-1663250400@new.quiltworx.com
SUMMARY:Quiltworx Retreat with Certified Instructor Nancy Kloster
DESCRIPTION:Join me at Creative Passions Retreat Center in Chesaning\, MI . Accommodations will be in the beautiful Retreat Center … all workshops\, meals and sleeping in one location allows you more time to sew\, even until the early hours of the morning! \nYou may select ANY Quiltworx pattern! If you are new to Foundation Paper Piecing the Quiltworx way… then may I highly suggest the Desert Sky or Fractured Star patterns.  I can help you with fabric selections and Creative Passions Quilt Shop can have a kit ready for you when you arrive! \nSunday\, Sept. 11\, 2022 – Sunday\, Sept 15\, 2022 \nFor more information and to sign up please visit the link below. \nhttps://www.creativepassionsllc.com/nancy-kloster-september-11—15-2022.htm
URL:https://new.quiltworx.com/event/quiltworx-retreat-with-certified-instructor-nancy-kloster-2/
LOCATION:Creative Passions Crop and Quilt Retreat Center\, 710 W. Broad St.\, Chesaning\, MI\, 48616\, United States
CATEGORIES:Nancy Kloster
ATTACH;FMTTYPE=image/png:https://d90udyyio1r4.cloudfront.net/wp-content/uploads/2021/06/QW-Prism-Table-Runner.png
ORGANIZER;CN="Creative Passions Crop and Quilt Retreat Center":MAILTO:lgreenfelder@hotmail.com
GEO:43.1863936;-84.1222799
X-APPLE-STRUCTURED-LOCATION;VALUE=URI;X-ADDRESS=Creative Passions Crop and Quilt Retreat Center 710 W. Broad St. Chesaning MI 48616 United States;X-APPLE-RADIUS=500;X-TITLE=710 W. Broad St.:geo:-84.1222799,43.1863936
END:VEVENT
END:VCALENDAR