BEGIN:VCALENDAR
VERSION:2.0
PRODID:-//Quiltworx.com - ECPv6.3.4//NONSGML v1.0//EN
CALSCALE:GREGORIAN
METHOD:PUBLISH
X-WR-CALNAME:Quiltworx.com
X-ORIGINAL-URL:https://new.quiltworx.com
X-WR-CALDESC:Events for Quiltworx.com
REFRESH-INTERVAL;VALUE=DURATION:PT1H
X-Robots-Tag:noindex
X-PUBLISHED-TTL:PT1H
BEGIN:VTIMEZONE
TZID:America/Denver
BEGIN:DAYLIGHT
TZOFFSETFROM:-0700
TZOFFSETTO:-0600
TZNAME:MDT
DTSTART:20220313T090000
END:DAYLIGHT
BEGIN:STANDARD
TZOFFSETFROM:-0600
TZOFFSETTO:-0700
TZNAME:MST
DTSTART:20221106T080000
END:STANDARD
END:VTIMEZONE
BEGIN:VEVENT
DTSTART;TZID=America/Denver:20221112T090000
DTEND;TZID=America/Denver:20221113T160000
DTSTAMP:20260419T233858
CREATED:20211229T220532Z
LAST-MODIFIED:20211229T220532Z
UID:102383-1668243600-1668355200@new.quiltworx.com
SUMMARY:Quiltworx 2 Day Retreat in Iowa
DESCRIPTION:Spend 2 days with Quiltworx certified instructor May Black.  Bring any Quiltworx project you are working on or wanting to start.  Stop looking at that Quiltworx pattern and let us help you get it started.   As a certified Quiltworx shop\, all of the staff at Mended Hearts are fully qualified to help you pick out your pattern and/or fabric for this workshop.  Beginners are always welcome!!
URL:https://new.quiltworx.com/event/quiltworx-2-day-retreat-in-iowa-4/
LOCATION:Mended Hearts Quilting & Boutique\, 3212 330th Street\, Ellsworth\, IA\, 50075\, United States
CATEGORIES:May Black,Mended Hearts Quilting & Boutique
GEO:42.3097358;-93.5373534
X-APPLE-STRUCTURED-LOCATION;VALUE=URI;X-ADDRESS=Mended Hearts Quilting & Boutique 3212 330th Street Ellsworth IA 50075 United States;X-APPLE-RADIUS=500;X-TITLE=3212 330th Street:geo:-93.5373534,42.3097358
END:VEVENT
END:VCALENDAR