BEGIN:VCALENDAR
VERSION:2.0
PRODID:-//Quiltworx.com - ECPv6.3.4//NONSGML v1.0//EN
CALSCALE:GREGORIAN
METHOD:PUBLISH
X-WR-CALNAME:Quiltworx.com
X-ORIGINAL-URL:https://new.quiltworx.com
X-WR-CALDESC:Events for Quiltworx.com
REFRESH-INTERVAL;VALUE=DURATION:PT1H
X-Robots-Tag:noindex
X-PUBLISHED-TTL:PT1H
BEGIN:VTIMEZONE
TZID:America/Denver
BEGIN:DAYLIGHT
TZOFFSETFROM:-0700
TZOFFSETTO:-0600
TZNAME:MDT
DTSTART:20220313T090000
END:DAYLIGHT
BEGIN:STANDARD
TZOFFSETFROM:-0600
TZOFFSETTO:-0700
TZNAME:MST
DTSTART:20221106T080000
END:STANDARD
END:VTIMEZONE
BEGIN:VEVENT
DTSTART;TZID=America/Denver:20221101T130000
DTEND;TZID=America/Denver:20221101T150000
DTSTAMP:20260420T214053
CREATED:20220806T220934Z
LAST-MODIFIED:20220806T220934Z
UID:10010404-1667307600-1667314800@new.quiltworx.com
SUMMARY:Poinsettia - Zoom Class Series - PERFECT FOR BEGINNERS
DESCRIPTION:Small Quilt –  Big Learning\nThis beautiful small quilt is perfect for your tables\, your walls and make extraordinary gifts!  They are quilt patterns that with proper instruction every quilt-maker can make! \nIn a few short classes you will learn how to navigate Quiltworx quilt patterns\, how to choose fabrics for Quiltworx quilts and the fundamentals of paper piecing as well as curved piecing the Quiltworx way! These skills will lay a great foundation for future quilt projects. You’ll be amazed at how quickly these beautiful quilts go from start to finish!   A Quiltworx pattern — this foundation paper pieced table topper finishes at 30″ — either round or square!!  It’s quick to make\, quick to quilt and quick to bind.  That makes it a perfect quilt to gift to family and friends (or keep for yourself!!).  Make them in colors to match your decor — or seasonal — spring\, summer\, fall\, winter or holiday!  They are so pretty you’ll want one for every season! \nThe Best Seat in the Room…\nBecause classes are on the ZOOM platform – there is no packing up. No lugging your machine in the rain\, cold or snow.   No travel – no hotel bills!  You will be in your own bed every night. No worrying about social distancing or health risks.  You will work from your own sewing room and have all your tools set up the way you like available to you.  You can even attend in your jammies!  Unlike typical online classes where you can only watch – with ZOOM you watch\, listen\, ask questions AND get answers right then and there.  Like the online classes\, sessions are recorded so you can revisit them as needed.  Unlike a typical classroom where students huddle around the instructor during demonstrations where you wrangle to get a good view – EVERYONE has the same perfect view.  I utilize multiple camera angles as well as PowerPoint and graphics to make sure you have the perfect look at exactly what you need to see to understand what it is you need to do. From lectures to cutting to pressing to sewing – you’ll have the perfect view every time.   And \nKathy is always happy to answer emails\, text message or even set up a one-on-one video chat to make sure you will have no reason not to finish your quilt! \nCourse Schedule\nClass will meet on Tuesday mornings starting  from the end of September through October –  Want to participate but you work during the day?  Classes are recorded so you can watch them at your convenience – day or night.  Class recordings will remain available through the end of the year.  And I’m always available to answer questions outside of the actual class.  An email\, text or a quick video chat will get your questions answered! My BobKat Guarantee is that I’m here for you until your last stitch!  No UFO’s on my watch! \nClass Dates are as follows \nClass will include the following sessions:  (1:00 pm -3:00 PM — CENTRAL TIME ZONE) \n\nTuesday Sept 27  – General information and a cutting / prep session (especially for beginning Quiltworx quilt makers)\nTuesday Oct 11 – Start Sewing!\nTuesday\, Oct 25- More Sewing\nTuesday Nov 1 – Final Assembly\n\nYou can easily have this on your table (or your wall!) this holiday season!! \n\nCourse fee: $89  (includes the pattern!)\n\nReserve your spot today!   I look forward to Zooming with you soon!\nPurchase your ticket below – just click on the + to make it a 1. \nI hope you’ll plan to join me!  When you discover how easy this beautiful quilt is to make – and how quickly it goes together… you’ll want to make several for gifts!  And they are easy to quilt on your domestic machine – a simple stitch in the ditch to something more ornate – so you’ll be able to finish them without needing the services of a long arm quilter!  They can decorate your table this Holiday Season! \nPS:  Don’t forget to check out my fabric kits!  Or I can prepare one JUST FOR YOU!
URL:https://new.quiltworx.com/event/poinsettia-zoom-class-series-perfect-for-beginners/2022-11-01/
CATEGORIES:Kathryn Groves,Poinsettia
ATTACH;FMTTYPE=image/jpeg:https://d90udyyio1r4.cloudfront.net/wp-content/uploads/2022/08/Poinsettia.jpg
ORGANIZER;CN="Kathryn Groves":MAILTO:kathy@bobkatquilts.com
END:VEVENT
END:VCALENDAR