BEGIN:VCALENDAR
VERSION:2.0
PRODID:-//Quiltworx.com - ECPv6.3.4//NONSGML v1.0//EN
CALSCALE:GREGORIAN
METHOD:PUBLISH
X-WR-CALNAME:Quiltworx.com
X-ORIGINAL-URL:https://new.quiltworx.com
X-WR-CALDESC:Events for Quiltworx.com
REFRESH-INTERVAL;VALUE=DURATION:PT1H
X-Robots-Tag:noindex
X-PUBLISHED-TTL:PT1H
BEGIN:VTIMEZONE
TZID:America/Denver
BEGIN:DAYLIGHT
TZOFFSETFROM:-0700
TZOFFSETTO:-0600
TZNAME:MDT
DTSTART:20220313T090000
END:DAYLIGHT
BEGIN:STANDARD
TZOFFSETFROM:-0600
TZOFFSETTO:-0700
TZNAME:MST
DTSTART:20221106T080000
END:STANDARD
END:VTIMEZONE
BEGIN:VEVENT
DTSTART;TZID=America/Denver:20221115T180000
DTEND;TZID=America/Denver:20221115T210000
DTSTAMP:20260419T203124
CREATED:20220923T164355Z
LAST-MODIFIED:20220923T164355Z
UID:104759-1668535200-1668546000@new.quiltworx.com
SUMMARY:My Quiltworx Journey Trunk Show\, CI Nancy Kloster - West Michigan Quilt Guild
DESCRIPTION:Join me at the West Michigan Quilt Guild of Grand Rapids\, MI \nYou will be inspired and encouraged to take that step forward and begin your very own Quiltworx journey into the world of Foundation Paper Piecing the Judy Niemeyer way! YOU can do this and I am happy to teach you the techniques and tips I have learned from Judy Niemeyer. \nhttps://www.wmqg.org/ \n  \n  \n 
URL:https://new.quiltworx.com/event/my-quiltworx-journey-trunk-show-ci-nancy-kloster-west-michigan-quilt-guild/
CATEGORIES:Nancy Kloster
END:VEVENT
END:VCALENDAR