BEGIN:VCALENDAR
VERSION:2.0
PRODID:-//Quiltworx.com - ECPv6.3.4//NONSGML v1.0//EN
CALSCALE:GREGORIAN
METHOD:PUBLISH
X-WR-CALNAME:Quiltworx.com
X-ORIGINAL-URL:https://new.quiltworx.com
X-WR-CALDESC:Events for Quiltworx.com
REFRESH-INTERVAL;VALUE=DURATION:PT1H
X-Robots-Tag:noindex
X-PUBLISHED-TTL:PT1H
BEGIN:VTIMEZONE
TZID:America/Denver
BEGIN:DAYLIGHT
TZOFFSETFROM:-0700
TZOFFSETTO:-0600
TZNAME:MDT
DTSTART:20220313T090000
END:DAYLIGHT
BEGIN:STANDARD
TZOFFSETFROM:-0600
TZOFFSETTO:-0700
TZNAME:MST
DTSTART:20221106T080000
END:STANDARD
END:VTIMEZONE
BEGIN:VEVENT
DTSTART;TZID=America/Denver:20221116T090000
DTEND;TZID=America/Denver:20221116T160000
DTSTAMP:20260419T184856
CREATED:20220923T164545Z
LAST-MODIFIED:20220923T164545Z
UID:104761-1668589200-1668614400@new.quiltworx.com
SUMMARY:Desert Sky Workshop with CI Nancy Kloster at WMQG
DESCRIPTION:Do you want to learn how to accomplish Beautiful Curves and Amazing Floating Points? Are you ready to step forward into the Foundation Paper Piecing world of Judy Niemeyer/Quiltworx patterns? Well this is your opportunity to walk with me and learn Judy’s techniques and tips! \nI invite you to join me … the Quiltworx Desert Sky pattern is a great place to begin your Quiltworx Journey  … hosted by: West Michigan Quilt Guild of Grand Rapids\, MI \nhttps://www.wmqg.org/ \n 
URL:https://new.quiltworx.com/event/desert-sky-workshop-with-ci-nancy-kloster-at-wmqg/
CATEGORIES:Desert Sky,Nancy Kloster
ATTACH;FMTTYPE=image/jpeg:https://d90udyyio1r4.cloudfront.net/wp-content/uploads/2022/07/Desert-Sky-Riley-Blake-2022-CS.jpg
END:VEVENT
END:VCALENDAR