BEGIN:VCALENDAR
VERSION:2.0
PRODID:-//Quiltworx.com - ECPv6.3.4//NONSGML v1.0//EN
CALSCALE:GREGORIAN
METHOD:PUBLISH
X-WR-CALNAME:Quiltworx.com
X-ORIGINAL-URL:https://new.quiltworx.com
X-WR-CALDESC:Events for Quiltworx.com
REFRESH-INTERVAL;VALUE=DURATION:PT1H
X-Robots-Tag:noindex
X-PUBLISHED-TTL:PT1H
BEGIN:VTIMEZONE
TZID:America/Denver
BEGIN:DAYLIGHT
TZOFFSETFROM:-0700
TZOFFSETTO:-0600
TZNAME:MDT
DTSTART:20220313T090000
END:DAYLIGHT
BEGIN:STANDARD
TZOFFSETFROM:-0600
TZOFFSETTO:-0700
TZNAME:MST
DTSTART:20221106T080000
END:STANDARD
END:VTIMEZONE
BEGIN:VEVENT
DTSTART;TZID=America/Denver:20221027T103000
DTEND;TZID=America/Denver:20221110T150000
DTSTAMP:20260420T043332
CREATED:20220916T154355Z
LAST-MODIFIED:20220916T155100Z
UID:10010318-1666866600-1668092400@new.quiltworx.com
SUMMARY:Christmas Celebrations Tree Skirt Workshop
DESCRIPTION:
URL:https://new.quiltworx.com/event/christmas-celebrations-tree-skirt-workshop/2022-10-27/
LOCATION:Sew Creative Threads\, 189 CR 6 W\, Elkhart\, IN\, 46514\, United States
CATEGORIES:Christmas Celebration Tree Skirt,Tammy Gardner
GEO:41.7242981;-85.9753165
X-APPLE-STRUCTURED-LOCATION;VALUE=URI;X-ADDRESS=Sew Creative Threads 189 CR 6 W Elkhart IN 46514 United States;X-APPLE-RADIUS=500;X-TITLE=189 CR 6 W:geo:-85.9753165,41.7242981
END:VEVENT
END:VCALENDAR